BEGIN:VCALENDAR
VERSION:2.0
PRODID:-//Cross Country Cruisers - ECPv6.15.20//NONSGML v1.0//EN
CALSCALE:GREGORIAN
METHOD:PUBLISH
X-ORIGINAL-URL:https://www.crosscountrycruisers.com
X-WR-CALDESC:Events for Cross Country Cruisers
REFRESH-INTERVAL;VALUE=DURATION:PT1H
X-Robots-Tag:noindex
X-PUBLISHED-TTL:PT1H
BEGIN:VTIMEZONE
TZID:America/Chicago
BEGIN:DAYLIGHT
TZOFFSETFROM:-0600
TZOFFSETTO:-0500
TZNAME:CDT
DTSTART:20240310T080000
END:DAYLIGHT
BEGIN:STANDARD
TZOFFSETFROM:-0500
TZOFFSETTO:-0600
TZNAME:CST
DTSTART:20241103T070000
END:STANDARD
BEGIN:DAYLIGHT
TZOFFSETFROM:-0600
TZOFFSETTO:-0500
TZNAME:CDT
DTSTART:20250309T080000
END:DAYLIGHT
BEGIN:STANDARD
TZOFFSETFROM:-0500
TZOFFSETTO:-0600
TZNAME:CST
DTSTART:20251102T070000
END:STANDARD
BEGIN:DAYLIGHT
TZOFFSETFROM:-0600
TZOFFSETTO:-0500
TZNAME:CDT
DTSTART:20260308T080000
END:DAYLIGHT
BEGIN:STANDARD
TZOFFSETFROM:-0500
TZOFFSETTO:-0600
TZNAME:CST
DTSTART:20261101T070000
END:STANDARD
END:VTIMEZONE
BEGIN:VEVENT
DTSTART;TZID=America/Chicago:20250102T090000
DTEND;TZID=America/Chicago:20250102T113000
DTSTAMP:20260425T105550
CREATED:20241229T002652Z
LAST-MODIFIED:20241229T002652Z
UID:10001048-1735808400-1735817400@www.crosscountrycruisers.com
SUMMARY:SnoFest Planning Meeting
DESCRIPTION:Meeting to get the Raffles Organized\, needed items out of cold storage\, etc.
URL:https://www.crosscountrycruisers.com/event/snofest-planning-meeting-3/
LOCATION:Cruisers Clubhouse\, Helminski Road\, Arbor Vitae\, WI
ORGANIZER;CN="Deb Meyer":MAILTO:cdmeyer@newnorth.net
END:VEVENT
BEGIN:VEVENT
DTSTART;TZID=America/Chicago:20250108T083000
DTEND;TZID=America/Chicago:20250108T120000
DTSTAMP:20260425T105550
CREATED:20241229T003615Z
LAST-MODIFIED:20250128T023015Z
UID:10000971-1736325000-1736337600@www.crosscountrycruisers.com
SUMMARY:Wednesday Work-Day
DESCRIPTION:We need volunteers for Wednesday Workdays\, we begin every week at 8:30 and usually finish up by noon.  Please come and help out the crew.
URL:https://www.crosscountrycruisers.com/event/wednesday-work-day-6-2/2025-01-08/
LOCATION:Cruisers Clubhouse\, Helminski Road\, Arbor Vitae\, WI
ORGANIZER;CN="Jerry Wesner":MAILTO:jerrywesner@gmail.com
END:VEVENT
BEGIN:VEVENT
DTSTART;TZID=America/Chicago:20250109T090000
DTEND;TZID=America/Chicago:20250109T120000
DTSTAMP:20260425T105550
CREATED:20241229T002813Z
LAST-MODIFIED:20241229T002813Z
UID:10001049-1736413200-1736424000@www.crosscountrycruisers.com
SUMMARY:SnoFest Planning Meeting
DESCRIPTION:Review Final details and begin putting the raffle basket together
URL:https://www.crosscountrycruisers.com/event/snofest-planning-meeting-4/
LOCATION:Cruisers Clubhouse\, Helminski Road\, Arbor Vitae\, WI
ORGANIZER;CN="Deb Meyer":MAILTO:cdmeyer@newnorth.net
END:VEVENT
BEGIN:VEVENT
DTSTART;TZID=America/Chicago:20250114T053000
DTEND;TZID=America/Chicago:20250114T193000
DTSTAMP:20260425T105550
CREATED:20241223T224150Z
LAST-MODIFIED:20241223T224150Z
UID:10001046-1736832600-1736883000@www.crosscountrycruisers.com
SUMMARY:Board Meeting
DESCRIPTION:Dinner at 5:30\, Meeting Begins at 6:00 p.m.
URL:https://www.crosscountrycruisers.com/event/board-meeting-19/
LOCATION:Cruisers Clubhouse\, Helminski Road\, Arbor Vitae\, WI
END:VEVENT
BEGIN:VEVENT
DTSTART;TZID=America/Chicago:20250115T083000
DTEND;TZID=America/Chicago:20250115T120000
DTSTAMP:20260425T105550
CREATED:20241229T003615Z
LAST-MODIFIED:20250128T023015Z
UID:10000973-1736929800-1736942400@www.crosscountrycruisers.com
SUMMARY:Wednesday Work-Day
DESCRIPTION:We need volunteers for Wednesday Workdays\, we begin every week at 8:30 and usually finish up by noon.  Please come and help out the crew.
URL:https://www.crosscountrycruisers.com/event/wednesday-work-day-6-2/2025-01-15/
LOCATION:Cruisers Clubhouse\, Helminski Road\, Arbor Vitae\, WI
ORGANIZER;CN="Jerry Wesner":MAILTO:jerrywesner@gmail.com
END:VEVENT
BEGIN:VEVENT
DTSTART;TZID=America/Chicago:20250117T170000
DTEND;TZID=America/Chicago:20250117T200000
DTSTAMP:20260425T105550
CREATED:20241223T215126Z
LAST-MODIFIED:20241223T215126Z
UID:10001044-1737133200-1737144000@www.crosscountrycruisers.com
SUMMARY:SnoFest - Friday Night Fish Fry 5pm - 8pm
DESCRIPTION:Come to the Cruisers SnoFest\, January 17th for either a Fish Fry or Lasagna Dinner.  Music\, Beverages\, Raffles & Fun
URL:https://www.crosscountrycruisers.com/event/snofest-friday-night-fish-fry-5pm-8pm/
LOCATION:Cruisers Clubhouse\, Helminski Road\, Arbor Vitae\, WI
ORGANIZER;CN="Deb Meyer":MAILTO:cdmeyer@newnorth.net
END:VEVENT
BEGIN:VEVENT
DTSTART;TZID=America/Chicago:20250118T080000
DTEND;TZID=America/Chicago:20250118T200000
DTSTAMP:20260425T105550
CREATED:20241223T220035Z
LAST-MODIFIED:20241223T220035Z
UID:10001045-1737187200-1737230400@www.crosscountrycruisers.com
SUMMARY:SnoFest - Vintage Show\, Shine & Ride
DESCRIPTION:Come out to the Cruiser’s Clubhouse\, Vintage Show registration begins at 8:00 a.m.  Come and bring your Vintage Sleds and come and see all the sleds. After  Vintage Show Judging\, the Vintage sleds will take a Ride (Weather Permitting).  Inside the Clubhouse\, there will be music\, food\, Beverage\, Raffles and Fun.  Come and join the Fun.
URL:https://www.crosscountrycruisers.com/event/snofest-vintage-show-shine-ride/
LOCATION:Cruisers Clubhouse\, Helminski Road\, Arbor Vitae\, WI
ORGANIZER;CN="Deb Meyer":MAILTO:cdmeyer@newnorth.net
END:VEVENT
BEGIN:VEVENT
DTSTART;TZID=America/Chicago:20250120T080000
DTEND;TZID=America/Chicago:20250120T170000
DTSTAMP:20260425T105550
CREATED:20250121T024009Z
LAST-MODIFIED:20250121T024009Z
UID:10001051-1737360000-1737392400@www.crosscountrycruisers.com
SUMMARY:Board Meeting
DESCRIPTION:Everyone is Welcome.  The Board Meetings are the 2nd Tuesday of the month.
URL:https://www.crosscountrycruisers.com/event/board-meeting-20/
LOCATION:WI
END:VEVENT
BEGIN:VEVENT
DTSTART;TZID=America/Chicago:20250121T170000
DTEND;TZID=America/Chicago:20250121T200000
DTSTAMP:20260425T105550
CREATED:20241229T003252Z
LAST-MODIFIED:20241229T003252Z
UID:10001050-1737478800-1737489600@www.crosscountrycruisers.com
SUMMARY:General Membership Meeting
DESCRIPTION:Holiday Cafe \nBy January 15th
URL:https://www.crosscountrycruisers.com/event/general-membership-meeting-9/
LOCATION:Holiday Cafe\, 1107 1st street\, Woodruff\, WI\, 54568\, United States
END:VEVENT
BEGIN:VEVENT
DTSTART;TZID=America/Chicago:20250122T083000
DTEND;TZID=America/Chicago:20250122T120000
DTSTAMP:20260425T105550
CREATED:20241229T003615Z
LAST-MODIFIED:20250128T023015Z
UID:10000974-1737534600-1737547200@www.crosscountrycruisers.com
SUMMARY:Wednesday Work-Day
DESCRIPTION:We need volunteers for Wednesday Workdays\, we begin every week at 8:30 and usually finish up by noon.  Please come and help out the crew.
URL:https://www.crosscountrycruisers.com/event/wednesday-work-day-6-2/2025-01-22/
LOCATION:Cruisers Clubhouse\, Helminski Road\, Arbor Vitae\, WI
ORGANIZER;CN="Jerry Wesner":MAILTO:jerrywesner@gmail.com
END:VEVENT
BEGIN:VEVENT
DTSTART;TZID=America/Chicago:20250127T173000
DTEND;TZID=America/Chicago:20250127T183000
DTSTAMP:20260425T105550
CREATED:20250126T184246Z
LAST-MODIFIED:20250126T184246Z
UID:10001055-1737999000-1738002600@www.crosscountrycruisers.com
SUMMARY:Membership Meeting
DESCRIPTION:
URL:https://www.crosscountrycruisers.com/event/membership-meeting/
LOCATION:Cruisers Clubhouse\, Helminski Road\, Arbor Vitae\, WI
END:VEVENT
BEGIN:VEVENT
DTSTART;TZID=America/Chicago:20250129T083000
DTEND;TZID=America/Chicago:20250129T120000
DTSTAMP:20260425T105550
CREATED:20241229T003615Z
LAST-MODIFIED:20250128T023015Z
UID:10000975-1738139400-1738152000@www.crosscountrycruisers.com
SUMMARY:Wednesday Work-Day
DESCRIPTION:We need volunteers for Wednesday Workdays\, we begin every week at 8:30 and usually finish up by noon.  Please come and help out the crew.
URL:https://www.crosscountrycruisers.com/event/wednesday-work-day-6-2/2025-01-29/
LOCATION:Cruisers Clubhouse\, Helminski Road\, Arbor Vitae\, WI
ORGANIZER;CN="Jerry Wesner":MAILTO:jerrywesner@gmail.com
END:VEVENT
BEGIN:VEVENT
DTSTART;TZID=America/Chicago:20250130T163000
DTEND;TZID=America/Chicago:20250130T173000
DTSTAMP:20260425T105550
CREATED:20250121T024846Z
LAST-MODIFIED:20250121T024846Z
UID:10001054-1738254600-1738258200@www.crosscountrycruisers.com
SUMMARY:SnoFest Committee - DeBriefing
DESCRIPTION:
URL:https://www.crosscountrycruisers.com/event/snofest-committee-debriefing/
LOCATION:Cruisers Clubhouse\, Helminski Road\, Arbor Vitae\, WI
ORGANIZER;CN="Deb Meyer":MAILTO:cdmeyer@newnorth.net
END:VEVENT
BEGIN:VEVENT
DTSTART;TZID=America/Chicago:20250205T083000
DTEND;TZID=America/Chicago:20250205T120000
DTSTAMP:20260425T105550
CREATED:20241229T003615Z
LAST-MODIFIED:20250128T023015Z
UID:10000976-1738744200-1738756800@www.crosscountrycruisers.com
SUMMARY:Wednesday Work-Day
DESCRIPTION:We need volunteers for Wednesday Workdays\, we begin every week at 8:30 and usually finish up by noon.  Please come and help out the crew.
URL:https://www.crosscountrycruisers.com/event/wednesday-work-day-6-2/2025-02-05/
LOCATION:Cruisers Clubhouse\, Helminski Road\, Arbor Vitae\, WI
ORGANIZER;CN="Jerry Wesner":MAILTO:jerrywesner@gmail.com
END:VEVENT
BEGIN:VEVENT
DTSTART;TZID=America/Chicago:20250211T173000
DTEND;TZID=America/Chicago:20250211T190000
DTSTAMP:20260425T105550
CREATED:20250121T024601Z
LAST-MODIFIED:20250121T024601Z
UID:10001052-1739295000-1739300400@www.crosscountrycruisers.com
SUMMARY:Board Meeting
DESCRIPTION:Board Meetings are the 2nd Tuesday of each month.  Everyone is welcome
URL:https://www.crosscountrycruisers.com/event/board-meeting-21/
LOCATION:Cruisers Clubhouse\, Helminski Road\, Arbor Vitae\, WI
END:VEVENT
BEGIN:VEVENT
DTSTART;TZID=America/Chicago:20250212T083000
DTEND;TZID=America/Chicago:20250212T120000
DTSTAMP:20260425T105550
CREATED:20241229T003615Z
LAST-MODIFIED:20250128T023015Z
UID:10000977-1739349000-1739361600@www.crosscountrycruisers.com
SUMMARY:Wednesday Work-Day
DESCRIPTION:We need volunteers for Wednesday Workdays\, we begin every week at 8:30 and usually finish up by noon.  Please come and help out the crew.
URL:https://www.crosscountrycruisers.com/event/wednesday-work-day-6-2/2025-02-12/
LOCATION:Cruisers Clubhouse\, Helminski Road\, Arbor Vitae\, WI
ORGANIZER;CN="Jerry Wesner":MAILTO:jerrywesner@gmail.com
END:VEVENT
BEGIN:VEVENT
DTSTART;TZID=America/Chicago:20250215T120000
DTEND;TZID=America/Chicago:20250215T180000
DTSTAMP:20260425T105550
CREATED:20250128T021938Z
LAST-MODIFIED:20250128T021938Z
UID:10001056-1739620800-1739642400@www.crosscountrycruisers.com
SUMMARY:Snowmobile Raffle Party
DESCRIPTION:Snowmobile Raffle Drawing 5:00 p.m.
URL:https://www.crosscountrycruisers.com/event/snowmobile-raffle-party/
LOCATION:Cruisers Clubhouse\, Helminski Road\, Arbor Vitae\, WI
END:VEVENT
BEGIN:VEVENT
DTSTART;TZID=America/Chicago:20250215T150000
DTEND;TZID=America/Chicago:20250215T170000
DTSTAMP:20260425T105550
CREATED:20250128T022234Z
LAST-MODIFIED:20250128T022247Z
UID:10001057-1739631600-1739638800@www.crosscountrycruisers.com
SUMMARY:Cruiser Card Run - Card Drawing
DESCRIPTION:Walk\, run\, drive or ride! Get your Stamp Card at any participating establishments below for $20. Get 5 stamps for a poker hand.  Visit 10 for an extra card. Visit 15 for 2 extra cards.  Best poker hands win! Cards will be dealt at 3 pm at Cross Country Cruisers Fundraiser Raffle 2025\, Saturday\, February 15\, 2025 at the Cross Country Cruiser Clubhouse\, 1503 Helminski Road\, Arbor Vitae\, WI 54568. Winner announced at 5 pm.
URL:https://www.crosscountrycruisers.com/event/cruiser-card-run-card-drawing/
LOCATION:Cruisers Clubhouse\, Helminski Road\, Arbor Vitae\, WI
END:VEVENT
BEGIN:VEVENT
DTSTART;TZID=America/Chicago:20250217T170000
DTEND;TZID=America/Chicago:20250217T200000
DTSTAMP:20260425T105550
CREATED:20250121T024730Z
LAST-MODIFIED:20250216T195302Z
UID:10001053-1739811600-1739822400@www.crosscountrycruisers.com
SUMMARY:General Membership Meeting - Fibbers
DESCRIPTION:
URL:https://www.crosscountrycruisers.com/event/general-membership-meeting-fibbers/
LOCATION:WI
ORGANIZER;CN="Denise Bobert":MAILTO:dbtweety126@gmail.com
END:VEVENT
BEGIN:VEVENT
DTSTART;TZID=America/Chicago:20250219T083000
DTEND;TZID=America/Chicago:20250219T120000
DTSTAMP:20260425T105550
CREATED:20241229T003615Z
LAST-MODIFIED:20250128T023015Z
UID:10000978-1739953800-1739966400@www.crosscountrycruisers.com
SUMMARY:Wednesday Work-Day
DESCRIPTION:We need volunteers for Wednesday Workdays\, we begin every week at 8:30 and usually finish up by noon.  Please come and help out the crew.
URL:https://www.crosscountrycruisers.com/event/wednesday-work-day-6-2/2025-02-19/
LOCATION:Cruisers Clubhouse\, Helminski Road\, Arbor Vitae\, WI
ORGANIZER;CN="Jerry Wesner":MAILTO:jerrywesner@gmail.com
END:VEVENT
BEGIN:VEVENT
DTSTART;TZID=America/Chicago:20250226T083000
DTEND;TZID=America/Chicago:20250226T120000
DTSTAMP:20260425T105550
CREATED:20241229T003615Z
LAST-MODIFIED:20250128T023015Z
UID:10000979-1740558600-1740571200@www.crosscountrycruisers.com
SUMMARY:Wednesday Work-Day
DESCRIPTION:We need volunteers for Wednesday Workdays\, we begin every week at 8:30 and usually finish up by noon.  Please come and help out the crew.
URL:https://www.crosscountrycruisers.com/event/wednesday-work-day-6-2/2025-02-26/
LOCATION:Cruisers Clubhouse\, Helminski Road\, Arbor Vitae\, WI
ORGANIZER;CN="Jerry Wesner":MAILTO:jerrywesner@gmail.com
END:VEVENT
BEGIN:VEVENT
DTSTART;TZID=America/Chicago:20250305T083000
DTEND;TZID=America/Chicago:20250305T120000
DTSTAMP:20260425T105550
CREATED:20241229T003615Z
LAST-MODIFIED:20250128T023015Z
UID:10000980-1741163400-1741176000@www.crosscountrycruisers.com
SUMMARY:Wednesday Work-Day
DESCRIPTION:We need volunteers for Wednesday Workdays\, we begin every week at 8:30 and usually finish up by noon.  Please come and help out the crew.
URL:https://www.crosscountrycruisers.com/event/wednesday-work-day-6-2/2025-03-05/
LOCATION:Cruisers Clubhouse\, Helminski Road\, Arbor Vitae\, WI
ORGANIZER;CN="Jerry Wesner":MAILTO:jerrywesner@gmail.com
END:VEVENT
BEGIN:VEVENT
DTSTART;TZID=America/Chicago:20250311T173000
DTEND;TZID=America/Chicago:20250311T193000
DTSTAMP:20260425T105550
CREATED:20250128T022445Z
LAST-MODIFIED:20250128T022445Z
UID:10001058-1741714200-1741721400@www.crosscountrycruisers.com
SUMMARY:Board Meeting
DESCRIPTION:Everyone is Welcom
URL:https://www.crosscountrycruisers.com/event/board-meeting-22/
LOCATION:Cruisers Clubhouse\, Helminski Road\, Arbor Vitae\, WI
ORGANIZER;CN="Deb Meyer":MAILTO:cdmeyer@newnorth.net
END:VEVENT
BEGIN:VEVENT
DTSTART;TZID=America/Chicago:20250312T083000
DTEND;TZID=America/Chicago:20250312T120000
DTSTAMP:20260425T105550
CREATED:20241229T003615Z
LAST-MODIFIED:20250128T023015Z
UID:10000981-1741768200-1741780800@www.crosscountrycruisers.com
SUMMARY:Wednesday Work-Day
DESCRIPTION:We need volunteers for Wednesday Workdays\, we begin every week at 8:30 and usually finish up by noon.  Please come and help out the crew.
URL:https://www.crosscountrycruisers.com/event/wednesday-work-day-6-2/2025-03-12/
LOCATION:Cruisers Clubhouse\, Helminski Road\, Arbor Vitae\, WI
ORGANIZER;CN="Jerry Wesner":MAILTO:jerrywesner@gmail.com
END:VEVENT
BEGIN:VEVENT
DTSTART;TZID=America/Chicago:20250318T170000
DTEND;TZID=America/Chicago:20250318T200000
DTSTAMP:20260425T105550
CREATED:20250128T022757Z
LAST-MODIFIED:20250128T022757Z
UID:10001059-1742317200-1742328000@www.crosscountrycruisers.com
SUMMARY:General Membership Meeting - Voting -  Board of Directors
DESCRIPTION:Cross Country Cruisers.Nominations \nare now open for the 3 available positions \nAll positions are for a 3 year term. \nSecretary \n2 – Board of Director \nAll nominations must be received before the February 11 Board meeting. \nAfter the Board meeting the list of candidates and a brief bio will be presented at the February 18th\, Membership Meeting at Fibber’s and via email and club website to all members. \nAny member of the club may nominate themselves or any other member of the club by \ncontacting Debbie Kowenstrot\, Treasurer at moc.oohaynull@tortsnewokd or 920-671-9181 \ncall or text. Debbie will contact the nominees for all information needed. \nCandidates must be a club member for at least one snowmobile season. \nIn person voting will take place at the March 18th annual meeting. \nPer the club operations rules\, a voting member must be active \nand be in good standing as of December 31\,2024. \nOnly in person voting is allowed per Wisconsin statut
URL:https://www.crosscountrycruisers.com/event/general-membership-meeting-voting-board-of-directors/
LOCATION:Slo’s Pub\, 10599 Big Arbor Vitae Dr\, Arbor Vitae\, 54568\, United States
END:VEVENT
BEGIN:VEVENT
DTSTART;TZID=America/Chicago:20250319T083000
DTEND;TZID=America/Chicago:20250319T120000
DTSTAMP:20260425T105550
CREATED:20241229T003615Z
LAST-MODIFIED:20250128T023015Z
UID:10000982-1742373000-1742385600@www.crosscountrycruisers.com
SUMMARY:Wednesday Work-Day
DESCRIPTION:We need volunteers for Wednesday Workdays\, we begin every week at 8:30 and usually finish up by noon.  Please come and help out the crew.
URL:https://www.crosscountrycruisers.com/event/wednesday-work-day-6-2/2025-03-19/
LOCATION:Cruisers Clubhouse\, Helminski Road\, Arbor Vitae\, WI
ORGANIZER;CN="Jerry Wesner":MAILTO:jerrywesner@gmail.com
END:VEVENT
BEGIN:VEVENT
DTSTART;TZID=America/Chicago:20250326T083000
DTEND;TZID=America/Chicago:20250326T120000
DTSTAMP:20260425T105550
CREATED:20241229T003615Z
LAST-MODIFIED:20250128T023015Z
UID:10000983-1742977800-1742990400@www.crosscountrycruisers.com
SUMMARY:Wednesday Work-Day
DESCRIPTION:We need volunteers for Wednesday Workdays\, we begin every week at 8:30 and usually finish up by noon.  Please come and help out the crew.
URL:https://www.crosscountrycruisers.com/event/wednesday-work-day-6-2/2025-03-26/
LOCATION:Cruisers Clubhouse\, Helminski Road\, Arbor Vitae\, WI
ORGANIZER;CN="Jerry Wesner":MAILTO:jerrywesner@gmail.com
END:VEVENT
BEGIN:VEVENT
DTSTART;TZID=America/Chicago:20250408T173000
DTEND;TZID=America/Chicago:20250408T193000
DTSTAMP:20260425T105550
CREATED:20250331T001048Z
LAST-MODIFIED:20250331T001048Z
UID:10001061-1744133400-1744140600@www.crosscountrycruisers.com
SUMMARY:Board Meeting
DESCRIPTION:
URL:https://www.crosscountrycruisers.com/event/board-meeting-24/
LOCATION:Cruisers Clubhouse\, Helminski Road\, Arbor Vitae\, WI
END:VEVENT
BEGIN:VEVENT
DTSTART;TZID=America/Chicago:20250409T080000
DTEND;TZID=America/Chicago:20250409T170000
DTSTAMP:20260425T105550
CREATED:20250409T220203Z
LAST-MODIFIED:20250409T220203Z
UID:10001069-1744185600-1744218000@www.crosscountrycruisers.com
SUMMARY:Appreciation Dinner - TBD
DESCRIPTION:Jon is working on details
URL:https://www.crosscountrycruisers.com/event/appreciation-dinner-tbd/
LOCATION:WI
END:VEVENT
BEGIN:VEVENT
DTSTART;TZID=America/Chicago:20250412T090000
DTEND;TZID=America/Chicago:20250412T130000
DTSTAMP:20260425T105550
CREATED:20250407T225045Z
LAST-MODIFIED:20250407T225045Z
UID:10001068-1744448400-1744462800@www.crosscountrycruisers.com
SUMMARY:Saturday Work Day - April 12th
DESCRIPTION:Washing Groomers\, Cleaning up the Shop\, Get the groomer from the West Barn to the main Barn\, etc.
URL:https://www.crosscountrycruisers.com/event/saturday-work-day-april-12th/
LOCATION:WI
END:VEVENT
END:VCALENDAR