BEGIN:VCALENDAR
VERSION:2.0
PRODID:-//Cross Country Cruisers - ECPv6.15.20//NONSGML v1.0//EN
CALSCALE:GREGORIAN
METHOD:PUBLISH
X-WR-CALNAME:Cross Country Cruisers
X-ORIGINAL-URL:https://www.crosscountrycruisers.com
X-WR-CALDESC:Events for Cross Country Cruisers
REFRESH-INTERVAL;VALUE=DURATION:PT1H
X-Robots-Tag:noindex
X-PUBLISHED-TTL:PT1H
BEGIN:VTIMEZONE
TZID:America/Chicago
BEGIN:DAYLIGHT
TZOFFSETFROM:-0600
TZOFFSETTO:-0500
TZNAME:CDT
DTSTART:20210314T080000
END:DAYLIGHT
BEGIN:STANDARD
TZOFFSETFROM:-0500
TZOFFSETTO:-0600
TZNAME:CST
DTSTART:20211107T070000
END:STANDARD
BEGIN:DAYLIGHT
TZOFFSETFROM:-0600
TZOFFSETTO:-0500
TZNAME:CDT
DTSTART:20220313T080000
END:DAYLIGHT
BEGIN:STANDARD
TZOFFSETFROM:-0500
TZOFFSETTO:-0600
TZNAME:CST
DTSTART:20221106T070000
END:STANDARD
BEGIN:DAYLIGHT
TZOFFSETFROM:-0600
TZOFFSETTO:-0500
TZNAME:CDT
DTSTART:20230312T080000
END:DAYLIGHT
BEGIN:STANDARD
TZOFFSETFROM:-0500
TZOFFSETTO:-0600
TZNAME:CST
DTSTART:20231105T070000
END:STANDARD
END:VTIMEZONE
BEGIN:VEVENT
DTSTART;TZID=America/Chicago:20221028T080000
DTEND;TZID=America/Chicago:20221029T170000
DTSTAMP:20260425T103441
CREATED:20221022T223455Z
LAST-MODIFIED:20221022T223455Z
UID:10000037-1666944000-1667062800@www.crosscountrycruisers.com
SUMMARY:Trail Brushing and Clean up
DESCRIPTION:Friday’s and Saturday’s at 8:30 a.m.  Meet at the Club House
URL:https://www.crosscountrycruisers.com/event/trail-brushing-and-clean-up/
LOCATION:Cruisers Barn\, 1503 Helminski Rd.\, Arbor Vitae\, WI\, 54568\, United States
END:VEVENT
BEGIN:VEVENT
DTSTART;TZID=America/Chicago:20221019T083000
DTEND;TZID=America/Chicago:20221019T130000
DTSTAMP:20260425T103441
CREATED:20221019T021244Z
LAST-MODIFIED:20221019T023306Z
UID:10000005-1666168200-1666184400@www.crosscountrycruisers.com
SUMMARY:Equipment Maintenance Work Day
DESCRIPTION:Every Wednesday – Meet at the Cruiser Barn at 8:30am.  Lunch is usually provided
URL:https://www.crosscountrycruisers.com/event/equipment-maintenance-work-day/2022-10-19/
LOCATION:Cruisers Barn\, 1503 Helminski Rd.\, Arbor Vitae\, WI\, 54568\, United States
END:VEVENT
END:VCALENDAR