BEGIN:VCALENDAR
VERSION:2.0
PRODID:-//Cross Country Cruisers - ECPv6.15.20//NONSGML v1.0//EN
CALSCALE:GREGORIAN
METHOD:PUBLISH
X-WR-CALNAME:Cross Country Cruisers
X-ORIGINAL-URL:https://www.crosscountrycruisers.com
X-WR-CALDESC:Events for Cross Country Cruisers
REFRESH-INTERVAL;VALUE=DURATION:PT1H
X-Robots-Tag:noindex
X-PUBLISHED-TTL:PT1H
BEGIN:VTIMEZONE
TZID:America/Chicago
BEGIN:DAYLIGHT
TZOFFSETFROM:-0600
TZOFFSETTO:-0500
TZNAME:CDT
DTSTART:20230312T080000
END:DAYLIGHT
BEGIN:STANDARD
TZOFFSETFROM:-0500
TZOFFSETTO:-0600
TZNAME:CST
DTSTART:20231105T070000
END:STANDARD
BEGIN:DAYLIGHT
TZOFFSETFROM:-0600
TZOFFSETTO:-0500
TZNAME:CDT
DTSTART:20240310T080000
END:DAYLIGHT
BEGIN:STANDARD
TZOFFSETFROM:-0500
TZOFFSETTO:-0600
TZNAME:CST
DTSTART:20241103T070000
END:STANDARD
BEGIN:DAYLIGHT
TZOFFSETFROM:-0600
TZOFFSETTO:-0500
TZNAME:CDT
DTSTART:20250309T080000
END:DAYLIGHT
BEGIN:STANDARD
TZOFFSETFROM:-0500
TZOFFSETTO:-0600
TZNAME:CST
DTSTART:20251102T070000
END:STANDARD
END:VTIMEZONE
BEGIN:VEVENT
DTSTART;TZID=America/Chicago:20241119T170000
DTEND;TZID=America/Chicago:20241119T200000
DTSTAMP:20260425T073912
CREATED:20241006T161829Z
LAST-MODIFIED:20241105T140636Z
UID:10001038-1732035600-1732046400@www.crosscountrycruisers.com
SUMMARY:General Membership Meeting
DESCRIPTION:
URL:https://www.crosscountrycruisers.com/event/general-membership-meeting-8-2/
LOCATION:Gresham Lodge\, 4042 Popes Road\, Woodruff\, WI\, 54568\, United States
ORGANIZER;CN="Denise Bobert":MAILTO:dbtweety126@gmail.com
END:VEVENT
BEGIN:VEVENT
DTSTART;TZID=America/Chicago:20241113T083000
DTEND;TZID=America/Chicago:20241113T120000
DTSTAMP:20260425T073912
CREATED:20241006T161137Z
LAST-MODIFIED:20241006T161137Z
UID:10000964-1731486600-1731499200@www.crosscountrycruisers.com
SUMMARY:Wednesday Work-Day
DESCRIPTION:We need volunteers for Wednesday Workdays\, we begin every week at 8:30 and usually finish up by noon.  Please come and help out the crew.
URL:https://www.crosscountrycruisers.com/event/wednesday-work-day-6/2024-11-13/
LOCATION:Cruisers Clubhouse\, Helminski Road\, Arbor Vitae\, WI
ORGANIZER;CN="Jerry Wesner":MAILTO:jerrywesner@gmail.com
END:VEVENT
BEGIN:VEVENT
DTSTART;TZID=America/Chicago:20241112T173000
DTEND;TZID=America/Chicago:20241112T193000
DTSTAMP:20260425T073912
CREATED:20241006T161249Z
LAST-MODIFIED:20241006T161249Z
UID:10001037-1731432600-1731439800@www.crosscountrycruisers.com
SUMMARY:Board Meeting
DESCRIPTION:
URL:https://www.crosscountrycruisers.com/event/board-meeting-18/
LOCATION:Cruisers Clubhouse\, Helminski Road\, Arbor Vitae\, WI
END:VEVENT
BEGIN:VEVENT
DTSTART;TZID=America/Chicago:20241112T160000
DTEND;TZID=America/Chicago:20241112T173000
DTSTAMP:20260425T073912
CREATED:20241103T004306Z
LAST-MODIFIED:20241103T004333Z
UID:10001041-1731427200-1731432600@www.crosscountrycruisers.com
SUMMARY:SnoFest Planning Committee
DESCRIPTION:
URL:https://www.crosscountrycruisers.com/event/snofest-planning-committee/
LOCATION:WI
END:VEVENT
BEGIN:VEVENT
DTSTART;TZID=America/Chicago:20241106T083000
DTEND;TZID=America/Chicago:20241106T120000
DTSTAMP:20260425T073912
CREATED:20241006T161137Z
LAST-MODIFIED:20241006T161137Z
UID:10000963-1730881800-1730894400@www.crosscountrycruisers.com
SUMMARY:Wednesday Work-Day
DESCRIPTION:We need volunteers for Wednesday Workdays\, we begin every week at 8:30 and usually finish up by noon.  Please come and help out the crew.
URL:https://www.crosscountrycruisers.com/event/wednesday-work-day-6/2024-11-06/
LOCATION:Cruisers Clubhouse\, Helminski Road\, Arbor Vitae\, WI
ORGANIZER;CN="Jerry Wesner":MAILTO:jerrywesner@gmail.com
END:VEVENT
BEGIN:VEVENT
DTSTART;TZID=America/Chicago:20241030T083000
DTEND;TZID=America/Chicago:20241030T120000
DTSTAMP:20260425T073912
CREATED:20241006T161137Z
LAST-MODIFIED:20241006T161137Z
UID:10000962-1730277000-1730289600@www.crosscountrycruisers.com
SUMMARY:Wednesday Work-Day
DESCRIPTION:We need volunteers for Wednesday Workdays\, we begin every week at 8:30 and usually finish up by noon.  Please come and help out the crew.
URL:https://www.crosscountrycruisers.com/event/wednesday-work-day-6/2024-10-30/
LOCATION:Cruisers Clubhouse\, Helminski Road\, Arbor Vitae\, WI
ORGANIZER;CN="Jerry Wesner":MAILTO:jerrywesner@gmail.com
END:VEVENT
BEGIN:VEVENT
DTSTART;TZID=America/Chicago:20241023T083000
DTEND;TZID=America/Chicago:20241023T120000
DTSTAMP:20260425T073912
CREATED:20241006T161137Z
LAST-MODIFIED:20241006T161137Z
UID:10000961-1729672200-1729684800@www.crosscountrycruisers.com
SUMMARY:Wednesday Work-Day
DESCRIPTION:We need volunteers for Wednesday Workdays\, we begin every week at 8:30 and usually finish up by noon.  Please come and help out the crew.
URL:https://www.crosscountrycruisers.com/event/wednesday-work-day-6/2024-10-23/
LOCATION:Cruisers Clubhouse\, Helminski Road\, Arbor Vitae\, WI
ORGANIZER;CN="Jerry Wesner":MAILTO:jerrywesner@gmail.com
END:VEVENT
BEGIN:VEVENT
DTSTART;TZID=America/Chicago:20241016T083000
DTEND;TZID=America/Chicago:20241016T120000
DTSTAMP:20260425T073912
CREATED:20241006T161137Z
LAST-MODIFIED:20241006T161137Z
UID:10000960-1729067400-1729080000@www.crosscountrycruisers.com
SUMMARY:Wednesday Work-Day
DESCRIPTION:We need volunteers for Wednesday Workdays\, we begin every week at 8:30 and usually finish up by noon.  Please come and help out the crew.
URL:https://www.crosscountrycruisers.com/event/wednesday-work-day-6/2024-10-16/
LOCATION:Cruisers Clubhouse\, Helminski Road\, Arbor Vitae\, WI
ORGANIZER;CN="Jerry Wesner":MAILTO:jerrywesner@gmail.com
END:VEVENT
BEGIN:VEVENT
DTSTART;TZID=America/Chicago:20241015T170000
DTEND;TZID=America/Chicago:20241015T200000
DTSTAMP:20260425T073912
CREATED:20240819T003649Z
LAST-MODIFIED:20241006T161603Z
UID:10000957-1729011600-1729022400@www.crosscountrycruisers.com
SUMMARY:General Membership Meeting - Potluck
DESCRIPTION:
URL:https://www.crosscountrycruisers.com/event/general-membership-meeting-7/
LOCATION:Cruisers Clubhouse\, Helminski Road\, Arbor Vitae\, WI
ORGANIZER;CN="Denise Bobert":MAILTO:dbtweety126@gmail.com
END:VEVENT
BEGIN:VEVENT
DTSTART;TZID=America/Chicago:20241009T083000
DTEND;TZID=America/Chicago:20241009T120000
DTSTAMP:20260425T073912
CREATED:20241006T161137Z
LAST-MODIFIED:20241006T161137Z
UID:10000959-1728462600-1728475200@www.crosscountrycruisers.com
SUMMARY:Wednesday Work-Day
DESCRIPTION:We need volunteers for Wednesday Workdays\, we begin every week at 8:30 and usually finish up by noon.  Please come and help out the crew.
URL:https://www.crosscountrycruisers.com/event/wednesday-work-day-6/2024-10-09/
LOCATION:Cruisers Clubhouse\, Helminski Road\, Arbor Vitae\, WI
ORGANIZER;CN="Jerry Wesner":MAILTO:jerrywesner@gmail.com
END:VEVENT
BEGIN:VEVENT
DTSTART;TZID=America/Chicago:20241008T173000
DTEND;TZID=America/Chicago:20241008T193000
DTSTAMP:20260425T073912
CREATED:20240819T003539Z
LAST-MODIFIED:20240819T003539Z
UID:10000956-1728408600-1728415800@www.crosscountrycruisers.com
SUMMARY:Board Meeting
DESCRIPTION:
URL:https://www.crosscountrycruisers.com/event/board-meeting-17/
LOCATION:Cruisers Clubhouse\, Helminski Road\, Arbor Vitae\, WI
END:VEVENT
BEGIN:VEVENT
DTSTART;TZID=America/Chicago:20241001T163000
DTEND;TZID=America/Chicago:20241001T180000
DTSTAMP:20260425T073912
CREATED:20240819T004837Z
LAST-MODIFIED:20240819T004837Z
UID:10000958-1727800200-1727805600@www.crosscountrycruisers.com
SUMMARY:SnoFest Committee Meeting
DESCRIPTION:Everyone is welcome!
URL:https://www.crosscountrycruisers.com/event/snofest-committee-meeting/
LOCATION:Cruisers Clubhouse\, Helminski Road\, Arbor Vitae\, WI
ORGANIZER;CN="Deb Meyer":MAILTO:cdmeyer@newnorth.net
END:VEVENT
BEGIN:VEVENT
DTSTART;TZID=America/Chicago:20240928T080000
DTEND;TZID=America/Chicago:20240928T170000
DTSTAMP:20260425T073912
CREATED:20240424T162837Z
LAST-MODIFIED:20240424T162837Z
UID:10000953-1727510400-1727542800@www.crosscountrycruisers.com
SUMMARY:Beef-A-Rama
DESCRIPTION:If you would like to volunteer to help before\, during or after event \nplease contact Craig Pacyna at 715-498-3134 or email: moc.liamgnull@anycapgiarc
URL:https://www.crosscountrycruisers.com/event/beef-a-rama-2/
LOCATION:WI
END:VEVENT
BEGIN:VEVENT
DTSTART;TZID=America/Chicago:20240917T170000
DTEND;TZID=America/Chicago:20240917T200000
DTSTAMP:20260425T073912
CREATED:20240819T003446Z
LAST-MODIFIED:20240819T185050Z
UID:10000955-1726592400-1726603200@www.crosscountrycruisers.com
SUMMARY:General Membership Meeting
DESCRIPTION:Social Hour begins at 5:00 p.m.\, Dinner at 6:00 p.m.  Meeting to follow. \nKick off the beginning of Snow Season! \nSeptember 17th General Members Meeting \nSheri’s Pub and Grub on Hwy 70 West\, Minocqua \n5:00pm Social Hour\, 6pm Dinner with meeting to follow \nMenu: Broasted Chicken\, Lasagna\, Potatoes\, Salad Bar and Dessert \n$25 per person (includes gratuities) \nRSVP to Denise Bobert by September 11th \nmoc.liamgnull@621yteewtbd or 715-525-2073 (text or leave message)
URL:https://www.crosscountrycruisers.com/event/general-membership-meeting-6/
LOCATION:Sheri’s Pub n Grub\, Highway 70 East\, Minocqua\, WI 54548
ORGANIZER;CN="Denise Bobert":MAILTO:dbtweety126@gmail.com
END:VEVENT
BEGIN:VEVENT
DTSTART;TZID=America/Chicago:20240910T173000
DTEND;TZID=America/Chicago:20240910T193000
DTSTAMP:20260425T073912
CREATED:20240819T003237Z
LAST-MODIFIED:20240819T003303Z
UID:10000954-1725989400-1725996600@www.crosscountrycruisers.com
SUMMARY:Board Meeting
DESCRIPTION:
URL:https://www.crosscountrycruisers.com/event/board-meeting-16/
LOCATION:Cruisers Clubhouse\, Helminski Road\, Arbor Vitae\, WI
END:VEVENT
BEGIN:VEVENT
DTSTART;TZID=America/Chicago:20240901T120000
DTEND;TZID=America/Chicago:20240901T220000
DTSTAMP:20260425T073912
CREATED:20240424T161909Z
LAST-MODIFIED:20240424T161909Z
UID:10000952-1725192000-1725228000@www.crosscountrycruisers.com
SUMMARY:Slo's Anniversary Party
DESCRIPTION:The festivities will kick off at noon in the backyard at Slo’s Pub in Arbor Vitae with a lineup of incredible music throughout the day. \nThe highlight of the event will be the performance by the Eddie Butts Band\, renowned for their captivating blend of R&B\, pop\, jazz\, and more. \nA must-see favorite band in the Midwest performing from 4:00 pm to 8:00 pm. \nSlo’s Pub will have a tent filled with raffle baskets and a 50/50 draw\, with all proceeds benefiting the Cross Country Cruisers. This is an excellent opportunity to support our snowmobile club while enjoying a day of entertainment and fun. \nDonation baskets\, items and gift certificates will be needed. \nVolunteers will also be needed to work raffle ticket sales. \nIf you would like to help out for this event please contact \nJules David at 815-252-7611 or email: moc.oohaynull@0242_seluj
URL:https://www.crosscountrycruisers.com/event/slos-anniversary-party/
LOCATION:Slo’s Pub\, 10599 Big Arbor Vitae Dr\, Arbor Vitae\, 54568\, United States
ORGANIZER;CN="Julie David":MAILTO:jules_2420@yahoo.com
END:VEVENT
BEGIN:VEVENT
DTSTART;TZID=America/Chicago:20240806T173000
DTEND;TZID=America/Chicago:20240806T190000
DTSTAMP:20260425T073912
CREATED:20240424T154609Z
LAST-MODIFIED:20240424T154609Z
UID:10000951-1722965400-1722970800@www.crosscountrycruisers.com
SUMMARY:Board Meeting
DESCRIPTION:
URL:https://www.crosscountrycruisers.com/event/board-meeting-15/
LOCATION:Cruisers Clubhouse\, Helminski Road\, Arbor Vitae\, WI
END:VEVENT
BEGIN:VEVENT
DTSTART;TZID=America/Chicago:20240709T173000
DTEND;TZID=America/Chicago:20240709T190000
DTSTAMP:20260425T073912
CREATED:20240424T154508Z
LAST-MODIFIED:20240424T154508Z
UID:10000950-1720546200-1720551600@www.crosscountrycruisers.com
SUMMARY:Board Meeting
DESCRIPTION:
URL:https://www.crosscountrycruisers.com/event/board-meeting-14/
LOCATION:Cruisers Clubhouse\, Helminski Road\, Arbor Vitae\, WI
END:VEVENT
BEGIN:VEVENT
DTSTART;TZID=America/Chicago:20240604T173000
DTEND;TZID=America/Chicago:20240604T190000
DTSTAMP:20260425T073912
CREATED:20240424T154414Z
LAST-MODIFIED:20240424T154414Z
UID:10000949-1717522200-1717527600@www.crosscountrycruisers.com
SUMMARY:Board Meeting
DESCRIPTION:
URL:https://www.crosscountrycruisers.com/event/board-meeting-13/
LOCATION:Cruisers Clubhouse\, Helminski Road\, Arbor Vitae\, WI
END:VEVENT
BEGIN:VEVENT
DTSTART;TZID=America/Chicago:20240519T160000
DTEND;TZID=America/Chicago:20240519T200000
DTSTAMP:20260425T073912
CREATED:20240424T154129Z
LAST-MODIFIED:20240424T154232Z
UID:10000948-1716134400-1716148800@www.crosscountrycruisers.com
SUMMARY:Cruisers Appreciation Dinner
DESCRIPTION:
URL:https://www.crosscountrycruisers.com/event/cruisers-appreciation-dinner/
LOCATION:Northfork Fin & Filet\, 11084 Highway 70 E\, Arbor Vitae\, WI\, 54568\, United States
END:VEVENT
BEGIN:VEVENT
DTSTART;TZID=America/Chicago:20240504T100000
DTEND;TZID=America/Chicago:20240504T120000
DTSTAMP:20260425T073912
CREATED:20240424T153903Z
LAST-MODIFIED:20240424T153903Z
UID:10000947-1714816800-1714824000@www.crosscountrycruisers.com
SUMMARY:Adopt a Highway Pickup
DESCRIPTION:Adopt a Highway \nGreat turn out last year. Hope to see you again this year. Volunteers to meet at the Krist Gas Station parking lot on Highway 70 West at 10AM. Vests and Bags are supplied. Bring gloves and wear appropriate shoes and clothing. After pick up\, all participating volunteers will meet at the Cruisers clubhouse for free pizza and beverages. \nTo sign up or for more information you can contact Greg Pauli \nemail moc.liamgnull@iluapjgerg or text/call 608-516-6995
URL:https://www.crosscountrycruisers.com/event/adopt-a-highway-pickup/
LOCATION:WI
END:VEVENT
BEGIN:VEVENT
DTSTART;TZID=America/Chicago:20240424T083000
DTEND;TZID=America/Chicago:20240424T120000
DTSTAMP:20260425T073912
CREATED:20240424T153523Z
LAST-MODIFIED:20240424T153523Z
UID:10000946-1713947400-1713960000@www.crosscountrycruisers.com
SUMMARY:Workday Wednesday
DESCRIPTION:
URL:https://www.crosscountrycruisers.com/event/workday-wednesday/
LOCATION:Cruisers Clubhouse\, Helminski Road\, Arbor Vitae\, WI
END:VEVENT
BEGIN:VEVENT
DTSTART;TZID=America/Chicago:20240416T170000
DTEND;TZID=America/Chicago:20240416T200000
DTSTAMP:20260425T073912
CREATED:20240215T010602Z
LAST-MODIFIED:20240320T144852Z
UID:10000943-1713286800-1713297600@www.crosscountrycruisers.com
SUMMARY:April General Membership Meeting - Potluck - Cruisers Clubhouse
DESCRIPTION:
URL:https://www.crosscountrycruisers.com/event/april-general-membership-meeting-venue-tbd/
LOCATION:WI
ORGANIZER;CN="Denise Bobert":MAILTO:dbtweety126@gmail.com
END:VEVENT
BEGIN:VEVENT
DTSTART;TZID=America/Chicago:20240409T173000
DTEND;TZID=America/Chicago:20240409T190000
DTSTAMP:20260425T073912
CREATED:20240215T010433Z
LAST-MODIFIED:20240215T010433Z
UID:10000942-1712683800-1712689200@www.crosscountrycruisers.com
SUMMARY:April Board of Directors Meeting
DESCRIPTION:
URL:https://www.crosscountrycruisers.com/event/april-board-of-directors-meeting/
LOCATION:Cruisers Clubhouse\, Helminski Road\, Arbor Vitae\, WI
END:VEVENT
BEGIN:VEVENT
DTSTART;TZID=America/Chicago:20240327T173000
DTEND;TZID=America/Chicago:20240327T183000
DTSTAMP:20260425T073912
CREATED:20240320T144712Z
LAST-MODIFIED:20240320T144712Z
UID:10000945-1711560600-1711564200@www.crosscountrycruisers.com
SUMMARY:Raffle Committee Meeting
DESCRIPTION:If oyu would like to join the Raffle Committee\, please reach out to Jeff Katzer
URL:https://www.crosscountrycruisers.com/event/raffle-committee-meeting/
LOCATION:Cruisers Clubhouse\, Helminski Road\, Arbor Vitae\, WI
END:VEVENT
BEGIN:VEVENT
DTSTART;TZID=America/Chicago:20240319T170000
DTEND;TZID=America/Chicago:20240319T200000
DTSTAMP:20260425T073912
CREATED:20240215T005912Z
LAST-MODIFIED:20240215T010012Z
UID:10000679-1710867600-1710878400@www.crosscountrycruisers.com
SUMMARY:March General Membership Meeting (Election for Board)
DESCRIPTION:
URL:https://www.crosscountrycruisers.com/event/narch-general-membership-meeting-election-for-board/
LOCATION:Slo’s Pub\, 10599 Big Arbor Vitae Dr\, Arbor Vitae\, 54568\, United States
ORGANIZER;CN="Denise Bobert":MAILTO:dbtweety126@gmail.com
END:VEVENT
BEGIN:VEVENT
DTSTART;TZID=America/Chicago:20240312T173000
DTEND;TZID=America/Chicago:20240312T190000
DTSTAMP:20260425T073912
CREATED:20240215T005744Z
LAST-MODIFIED:20240215T005744Z
UID:10000678-1710264600-1710270000@www.crosscountrycruisers.com
SUMMARY:March Board Meeting
DESCRIPTION:
URL:https://www.crosscountrycruisers.com/event/march-board-meeting/
LOCATION:Cruisers Clubhouse\, Helminski Road\, Arbor Vitae\, WI
END:VEVENT
BEGIN:VEVENT
DTSTART;TZID=America/Chicago:20240305T180000
DTEND;TZID=America/Chicago:20240305T193000
DTSTAMP:20260425T073912
CREATED:20240215T010706Z
LAST-MODIFIED:20240215T010706Z
UID:10000944-1709661600-1709667000@www.crosscountrycruisers.com
SUMMARY:Beef-A-Rama Planning Meeting
DESCRIPTION:Beef-A-Ram
URL:https://www.crosscountrycruisers.com/event/beef-a-rama-planning-meeting-2/
LOCATION:Cruisers Clubhouse\, Helminski Road\, Arbor Vitae\, WI
END:VEVENT
BEGIN:VEVENT
DTSTART;TZID=America/Chicago:20240220T170000
DTEND;TZID=America/Chicago:20240220T200000
DTSTAMP:20260425T073912
CREATED:20240123T170508Z
LAST-MODIFIED:20240123T170508Z
UID:10000657-1708448400-1708459200@www.crosscountrycruisers.com
SUMMARY:February General Membership Meeting
DESCRIPTION:  \nCruisers General Membership Meeting Feb. 20th \nMeeting and Dinner Held at Sheri’s Pub n Grub\, Hwy 70 East\, Minocqua \nBuffet Dinner $25 per person Gratuity Included \nIncludes Salad Bar\, Broasted Chicken\, Lasagna\, Cheesy Potatoes\, Dessert \nCash bar at 5pm\, Buffet dinner at 6pm\, Meeting to follow at 6:30pm \nPlease join us even if you are not joining us for dinner. \nEveryone is welcome to attend meeting. \nRSVP BY FEB 14TH \nto Denise Bobert \n715-525-2073 or moc.liamgnull@621yteewtbd \n 
URL:https://www.crosscountrycruisers.com/event/february-general-membership-meeting/
LOCATION:Sheri’s Pub n Grub\, Highway 70 East\, Minocqua\, WI 54548
ORGANIZER;CN="Denise Bobert":MAILTO:dbtweety126@gmail.com
END:VEVENT
BEGIN:VEVENT
DTSTART;TZID=America/Chicago:20240217T120000
DTEND;TZID=America/Chicago:20240217T190000
DTSTAMP:20260425T073912
CREATED:20231221T021534Z
LAST-MODIFIED:20231221T021549Z
UID:10000656-1708171200-1708196400@www.crosscountrycruisers.com
SUMMARY:Lakeland Powersports -  Open House
DESCRIPTION:Snowmobile * 4 – Wheeler\,  Chain Saw\, Leaf Blower & Ace $1000 Raffle
URL:https://www.crosscountrycruisers.com/event/lakeland-powersport-open-house/
LOCATION:Lakeland Powersports\, 8844 Highway 47\, Woodruff\, WI
END:VEVENT
END:VCALENDAR