BEGIN:VCALENDAR
VERSION:2.0
PRODID:-//Cross Country Cruisers - ECPv6.15.20//NONSGML v1.0//EN
CALSCALE:GREGORIAN
METHOD:PUBLISH
X-WR-CALNAME:Cross Country Cruisers
X-ORIGINAL-URL:https://www.crosscountrycruisers.com
X-WR-CALDESC:Events for Cross Country Cruisers
REFRESH-INTERVAL;VALUE=DURATION:PT1H
X-Robots-Tag:noindex
X-PUBLISHED-TTL:PT1H
BEGIN:VTIMEZONE
TZID:America/Chicago
BEGIN:DAYLIGHT
TZOFFSETFROM:-0600
TZOFFSETTO:-0500
TZNAME:CDT
DTSTART:20220313T080000
END:DAYLIGHT
BEGIN:STANDARD
TZOFFSETFROM:-0500
TZOFFSETTO:-0600
TZNAME:CST
DTSTART:20221106T070000
END:STANDARD
BEGIN:DAYLIGHT
TZOFFSETFROM:-0600
TZOFFSETTO:-0500
TZNAME:CDT
DTSTART:20230312T080000
END:DAYLIGHT
BEGIN:STANDARD
TZOFFSETFROM:-0500
TZOFFSETTO:-0600
TZNAME:CST
DTSTART:20231105T070000
END:STANDARD
BEGIN:DAYLIGHT
TZOFFSETFROM:-0600
TZOFFSETTO:-0500
TZNAME:CDT
DTSTART:20240310T080000
END:DAYLIGHT
BEGIN:STANDARD
TZOFFSETFROM:-0500
TZOFFSETTO:-0600
TZNAME:CST
DTSTART:20241103T070000
END:STANDARD
END:VTIMEZONE
BEGIN:VEVENT
DTSTART;TZID=America/Chicago:20230930T080000
DTEND;TZID=America/Chicago:20230930T170000
DTSTAMP:20260425T092533
CREATED:20230509T021306Z
LAST-MODIFIED:20230509T021306Z
UID:10000095-1696060800-1696093200@www.crosscountrycruisers.com
SUMMARY:Beef-A-Rama
DESCRIPTION:
URL:https://www.crosscountrycruisers.com/event/beef-a-rama/
END:VEVENT
BEGIN:VEVENT
DTSTART;TZID=America/Chicago:20230927T083000
DTEND;TZID=America/Chicago:20230927T120000
DTSTAMP:20260425T092533
CREATED:20230905T171414Z
LAST-MODIFIED:20230905T171414Z
UID:10000110-1695803400-1695816000@www.crosscountrycruisers.com
SUMMARY:Wednesday Work Day
DESCRIPTION:
URL:https://www.crosscountrycruisers.com/event/wednesday-work-day-5/
LOCATION:Cruisers Clubhouse\, Helminski Road\, Arbor Vitae\, WI
ORGANIZER;CN="Jerry Wesner":MAILTO:jerrywesner@gmail.com
END:VEVENT
BEGIN:VEVENT
DTSTART;TZID=America/Chicago:20230920T150000
DTEND;TZID=America/Chicago:20230920T170000
DTSTAMP:20260425T092533
CREATED:20230509T021117Z
LAST-MODIFIED:20230727T175110Z
UID:10000104-1695222000-1695229200@www.crosscountrycruisers.com
SUMMARY:Highway Pick-up
DESCRIPTION:Adopt a Highway pickup. Great turn out last pick up. Hope to see you there again for our last pick up of the season. Volunteers to meet at the Krist Gas Station parking lot on Highway 70 West at 3PM.  Vests and Bags are supplied. Bring gloves and wear appropriate shoes and clothing. After pick up\, all participating volunteers will meet at the Cruisers clubhouse for free pizza and beverages. To sign up or for more information you can contact Greg Pauli at moc.liamgnull@iluapjgerg or text/call 608-516-6995.
URL:https://www.crosscountrycruisers.com/event/highway-pick-up-3/
END:VEVENT
BEGIN:VEVENT
DTSTART;TZID=America/Chicago:20230920T083000
DTEND;TZID=America/Chicago:20230920T120000
DTSTAMP:20260425T092533
CREATED:20230905T171345Z
LAST-MODIFIED:20230905T171345Z
UID:10000109-1695198600-1695211200@www.crosscountrycruisers.com
SUMMARY:Wednesday Work Day
DESCRIPTION:
URL:https://www.crosscountrycruisers.com/event/wednesday-work-day-4/
LOCATION:Cruisers Clubhouse\, Helminski Road\, Arbor Vitae\, WI
ORGANIZER;CN="Jerry Wesner":MAILTO:jerrywesner@gmail.com
END:VEVENT
BEGIN:VEVENT
DTSTART;TZID=America/Chicago:20230919T050000
DTEND;TZID=America/Chicago:20230919T200000
DTSTAMP:20260425T092533
CREATED:20230727T173449Z
LAST-MODIFIED:20230821T200328Z
UID:10000099-1695099600-1695153600@www.crosscountrycruisers.com
SUMMARY:General Membership Meeting - Fried Chicken Dinner
DESCRIPTION:Social Hour – 5:00 \nMenu:  Buffet Style:  Fried Chicken\, Riblets\, Mashed Potatoes\, Vegetable\, toss salad adn Dinner Roll \n$22.00 includes Gratuity \nRSVP by: September 13th – Contact Jeanne Parrish  – 608-723-9112 or moc.liamgnull@95reddelsj \n  \n  \nMeeting to Follow
URL:https://www.crosscountrycruisers.com/event/general-membership-meeting-the-boathouse/
LOCATION:The Boathouse
END:VEVENT
BEGIN:VEVENT
DTSTART;VALUE=DATE:20230914
DTEND;VALUE=DATE:20230918
DTSTAMP:20260425T092533
CREATED:20230509T021233Z
LAST-MODIFIED:20230727T174844Z
UID:10000094-1694649600-1694995199@www.crosscountrycruisers.com
SUMMARY:Harley Rally - Beverage Trailer
DESCRIPTION:
URL:https://www.crosscountrycruisers.com/event/harley-rally-beverage-trailer/
END:VEVENT
BEGIN:VEVENT
DTSTART;TZID=America/Chicago:20230913T083000
DTEND;TZID=America/Chicago:20230913T120000
DTSTAMP:20260425T092533
CREATED:20230905T171312Z
LAST-MODIFIED:20230905T171312Z
UID:10000108-1694593800-1694606400@www.crosscountrycruisers.com
SUMMARY:Wednesday Work Day
DESCRIPTION:
URL:https://www.crosscountrycruisers.com/event/wednesday-work-day-3/
LOCATION:Cruisers Clubhouse\, Helminski Road\, Arbor Vitae\, WI
ORGANIZER;CN="Jerry Wesner":MAILTO:jerrywesner@gmail.com
END:VEVENT
BEGIN:VEVENT
DTSTART;TZID=America/Chicago:20230912T173000
DTEND;TZID=America/Chicago:20230912T193000
DTSTAMP:20260425T092533
CREATED:20230727T171833Z
LAST-MODIFIED:20230727T171833Z
UID:10000097-1694539800-1694547000@www.crosscountrycruisers.com
SUMMARY:Board Meeting
DESCRIPTION:
URL:https://www.crosscountrycruisers.com/event/board-meeting-7/
LOCATION:Cruisers Clubhouse\, Helminski Road\, Arbor Vitae\, WI
END:VEVENT
BEGIN:VEVENT
DTSTART;TZID=America/Chicago:20230906T083000
DTEND;TZID=America/Chicago:20230906T120000
DTSTAMP:20260425T092533
CREATED:20230905T171031Z
LAST-MODIFIED:20230905T171031Z
UID:10000107-1693989000-1694001600@www.crosscountrycruisers.com
SUMMARY:Wednesday Work Day
DESCRIPTION:
URL:https://www.crosscountrycruisers.com/event/wednesday-work-day-2/
LOCATION:Cruisers Clubhouse\, Helminski Road\, Arbor Vitae\, WI
ORGANIZER;CN="Jerry Wesner":MAILTO:jerrywesner@gmail.com
END:VEVENT
BEGIN:VEVENT
DTSTART;TZID=America/Chicago:20230829T163000
DTEND;TZID=America/Chicago:20230829T180000
DTSTAMP:20260425T092533
CREATED:20230801T011454Z
LAST-MODIFIED:20230801T011454Z
UID:10000105-1693326600-1693332000@www.crosscountrycruisers.com
SUMMARY:Membership & Communication Meeting
DESCRIPTION:The Team has several ideas for this Fall and Winter.  We are always looking for fresh thoughts and ideas\, so if you would like to help us out with youth membership initiatives\, have membership experience\, interests in Trail rides or just ways to help us all have fun as a club\, please join us.
URL:https://www.crosscountrycruisers.com/event/membership-communication-meeting/
LOCATION:Cruisers Clubhouse\, Helminski Road\, Arbor Vitae\, WI
END:VEVENT
BEGIN:VEVENT
DTSTART;TZID=America/Chicago:20230821T100000
DTEND;TZID=America/Chicago:20230821T120000
DTSTAMP:20260425T092533
CREATED:20230727T174736Z
LAST-MODIFIED:20230727T174736Z
UID:10000103-1692612000-1692619200@www.crosscountrycruisers.com
SUMMARY:SnoFest Planning Team Meeting
DESCRIPTION:Everyone is invited to attend.  This is to get all of our Snowflakes in a row.  Lots off changes to make in preparation of our biggest Cruiser Fundraiser.  The event will take place on January 12th and 13th\, 2024.
URL:https://www.crosscountrycruisers.com/event/snofest-planning-team-meeting/
LOCATION:Cruisers Clubhouse\, Helminski Road\, Arbor Vitae\, WI
END:VEVENT
BEGIN:VEVENT
DTSTART;TZID=America/Chicago:20230814T180000
DTEND;TZID=America/Chicago:20230814T193000
DTSTAMP:20260425T092533
CREATED:20230727T173126Z
LAST-MODIFIED:20230727T173126Z
UID:10000098-1692036000-1692041400@www.crosscountrycruisers.com
SUMMARY:Beef-A-Rama Planning Team Meeting
DESCRIPTION:Beef-A-Rama Planning Meeting – All members are welcome!
URL:https://www.crosscountrycruisers.com/event/beef-a-rama-planning-team-meeting/
LOCATION:Cruisers Clubhouse\, Helminski Road\, Arbor Vitae\, WI
END:VEVENT
BEGIN:VEVENT
DTSTART;TZID=America/Chicago:20230809T083000
DTEND;TZID=America/Chicago:20230809T120000
DTSTAMP:20260425T092533
CREATED:20230807T162249Z
LAST-MODIFIED:20230807T162249Z
UID:10000106-1691569800-1691582400@www.crosscountrycruisers.com
SUMMARY:Wednesday - WORK DAY
DESCRIPTION:
URL:https://www.crosscountrycruisers.com/event/wednesday-work-day/
LOCATION:Cruisers Barn\, 1503 Helminski Rd.\, Arbor Vitae\, WI\, 54568\, United States
END:VEVENT
BEGIN:VEVENT
DTSTART;TZID=America/Chicago:20230719T180000
DTEND;TZID=America/Chicago:20230719T200000
DTSTAMP:20260425T092533
CREATED:20230718T234911Z
LAST-MODIFIED:20230718T234911Z
UID:10000096-1689789600-1689796800@www.crosscountrycruisers.com
SUMMARY:Board Meeting
DESCRIPTION:Dinner at 6:00 p.m.  Meeting to follow
URL:https://www.crosscountrycruisers.com/event/board-meeting-6/
LOCATION:Cruisers Clubhouse\, Helminski Road\, Arbor Vitae\, WI
END:VEVENT
BEGIN:VEVENT
DTSTART;TZID=America/Chicago:20230711T160000
DTEND;TZID=America/Chicago:20230711T170000
DTSTAMP:20260425T092533
CREATED:20230509T020929Z
LAST-MODIFIED:20230509T021007Z
UID:10000093-1689091200-1689094800@www.crosscountrycruisers.com
SUMMARY:Highway Pick-up
DESCRIPTION:
URL:https://www.crosscountrycruisers.com/event/highway-pick-up-2/
END:VEVENT
BEGIN:VEVENT
DTSTART;TZID=America/Chicago:20230509T173000
DTEND;TZID=America/Chicago:20230509T183000
DTSTAMP:20260425T092533
CREATED:20230509T020845Z
LAST-MODIFIED:20230509T020845Z
UID:10000092-1683653400-1683657000@www.crosscountrycruisers.com
SUMMARY:Board Meeting
DESCRIPTION:Discuss Snowmobile Raffle \nDiscuss Change of Winterfest to CC Cruiserfest
URL:https://www.crosscountrycruisers.com/event/board-meeting-4/
END:VEVENT
BEGIN:VEVENT
DTSTART;TZID=America/Chicago:20230509T150000
DTEND;TZID=America/Chicago:20230509T170000
DTSTAMP:20260425T092533
CREATED:20230509T020713Z
LAST-MODIFIED:20230509T020713Z
UID:10000091-1683644400-1683651600@www.crosscountrycruisers.com
SUMMARY:Highway P{ick-up
DESCRIPTION:May 9th  Highway Pickup bumped up to 3PM  (weather permitting)\, due to a scheduled board meeting at 5:30.  Volunteers to meet at the Krist Gas Station parking lot on Highway 70 West at 3PM.  When we are all done participating volunteers will meet at the Cruisers clubhouse for free pizza and beverages. To sign up or for more information you can contact Greg Pauli at moc.liamgnull@iluapjgerg or text/call 608-516-6995.
URL:https://www.crosscountrycruisers.com/event/highway-pick-up/
END:VEVENT
BEGIN:VEVENT
DTSTART;TZID=America/Chicago:20230509T090000
DTEND;TZID=America/Chicago:20230509T120000
DTSTAMP:20260425T092533
CREATED:20230416T002809Z
LAST-MODIFIED:20230416T002809Z
UID:10000090-1683622800-1683633600@www.crosscountrycruisers.com
SUMMARY:Highway Pick-up Trash Day
DESCRIPTION:Highway Pickup tentative dates scheduled for May 9th \, July 11th and September 13th. Details will follow.
URL:https://www.crosscountrycruisers.com/event/highway-pick-up-trash-day/
LOCATION:Cruisers Clubhouse\, Helminski Road\, Arbor Vitae\, WI
END:VEVENT
BEGIN:VEVENT
DTSTART;TZID=America/Chicago:20230507T163000
DTEND;TZID=America/Chicago:20230507T200000
DTSTAMP:20260425T092533
CREATED:20230411T214809Z
LAST-MODIFIED:20230411T215018Z
UID:10000085-1683477000-1683489600@www.crosscountrycruisers.com
SUMMARY:Appreciation Dinner for Volunteers (2 volunteer times)
DESCRIPTION:
URL:https://www.crosscountrycruisers.com/event/appreciation-dinner-for-volunteers-2-volunteer-times/
END:VEVENT
BEGIN:VEVENT
DTSTART;TZID=America/Chicago:20230501T163000
DTEND;TZID=America/Chicago:20230501T180000
DTSTAMP:20260425T092533
CREATED:20230416T002553Z
LAST-MODIFIED:20230416T002553Z
UID:10000089-1682958600-1682964000@www.crosscountrycruisers.com
SUMMARY:Membership/Communication Committee Meeting
DESCRIPTION:Monday\, May 1st Cruisers Winterfest planning team meeting at 3PM at Cruisers clubhouse. Also on Monday\, May 1st at 4:30PM there will be a Communications Team meeting at the Cruisers Clubhouse. Anyone is welcome to attend even if you have not made it to previous meetings.
URL:https://www.crosscountrycruisers.com/event/membership-communication-committee-meeting/
LOCATION:Cruisers Clubhouse\, Helminski Road\, Arbor Vitae\, WI
END:VEVENT
BEGIN:VEVENT
DTSTART;TZID=America/Chicago:20230501T150000
DTEND;TZID=America/Chicago:20230501T163000
DTSTAMP:20260425T092533
CREATED:20230416T002401Z
LAST-MODIFIED:20230416T002401Z
UID:10000088-1682953200-1682958600@www.crosscountrycruisers.com
SUMMARY:Winterfest Planning Meeting
DESCRIPTION:Monday\, May 1st Cruisers Winterfest planning team meeting at 3PM at Cruisers clubhouse. Also on Monday\, May 1st at 4:30PM there will be a Communications Team meeting at the Cruisers Clubhouse. Anyone is welcome to attend even if you have not made it to previous meetings.
URL:https://www.crosscountrycruisers.com/event/winterfest-planning-meeting-3/
LOCATION:Cruisers Clubhouse\, Helminski Road\, Arbor Vitae\, WI
END:VEVENT
BEGIN:VEVENT
DTSTART;TZID=America/Chicago:20230422T090000
DTEND;TZID=America/Chicago:20230422T120000
DTSTAMP:20260425T092533
CREATED:20230416T002250Z
LAST-MODIFIED:20230416T002250Z
UID:10000087-1682154000-1682164800@www.crosscountrycruisers.com
SUMMARY:Workday - Picking up Fencing for Storage
DESCRIPTION: Saturday April 22nd Workday meet at Cruisers Barn 9AM to work on picking up of trail snow fence\, organizing and putting fence away for the summer.
URL:https://www.crosscountrycruisers.com/event/workday-picking-up-fencing-for-storage/
LOCATION:Cruisers Barn\, 1503 Helminski Rd.\, Arbor Vitae\, WI\, 54568\, United States
ORGANIZER;CN="Jerry Wesner":MAILTO:jerrywesner@gmail.com
END:VEVENT
BEGIN:VEVENT
DTSTART;TZID=America/Chicago:20230419T090000
DTEND;TZID=America/Chicago:20230419T120000
DTSTAMP:20260425T092533
CREATED:20230416T002103Z
LAST-MODIFIED:20230416T002103Z
UID:10000086-1681894800-1681905600@www.crosscountrycruisers.com
SUMMARY:Workday - Removing Snow Fence
DESCRIPTION:Wednesday April 19th Workday meet at Cruisers Barn 9AM. We will be picking up snow fence at Arbor Vitae Campground and around town.
URL:https://www.crosscountrycruisers.com/event/workday-removing-snow-fence/
LOCATION:Cruisers Barn\, 1503 Helminski Rd.\, Arbor Vitae\, WI\, 54568\, United States
ORGANIZER;CN="Jerry Wesner":MAILTO:jerrywesner@gmail.com
END:VEVENT
BEGIN:VEVENT
DTSTART;TZID=America/Chicago:20230418T170000
DTEND;TZID=America/Chicago:20230418T200000
DTSTAMP:20260425T092533
CREATED:20230323T195845Z
LAST-MODIFIED:20230323T195845Z
UID:10000082-1681837200-1681848000@www.crosscountrycruisers.com
SUMMARY:April General Membership Meeting
DESCRIPTION:
URL:https://www.crosscountrycruisers.com/event/april-general-membership-meeting/
LOCATION:Cruisers Clubhouse\, Helminski Road\, Arbor Vitae\, WI
END:VEVENT
BEGIN:VEVENT
DTSTART;TZID=America/Chicago:20230417T180000
DTEND;TZID=America/Chicago:20230417T200000
DTSTAMP:20260425T092533
CREATED:20230411T211301Z
LAST-MODIFIED:20230416T001739Z
UID:10000084-1681754400-1681761600@www.crosscountrycruisers.com
SUMMARY:Beef-a Rama Planning Meeting
DESCRIPTION:Monday April 17th at 6PM at Cruisers Clubhouse is the initial meeting to put together and organizing committee for Beef A Rama (Sept. 30th) and also a committee for the Northwoods Fall Ride (Sept. 14th -17th) . Anyone interested in helping organize and plan these events is welcome to attend the meeting. If you have any questions contact Bill Lemke at moc.reitnorfnull@ekmelb or Doug Wendlandt at moc.kooltuonull@97iw5wk \n 
URL:https://www.crosscountrycruisers.com/event/beef-a-rama-planning-meeting/
LOCATION:Cruisers Clubhouse\, Helminski Road\, Arbor Vitae\, WI
END:VEVENT
BEGIN:VEVENT
DTSTART;TZID=America/Chicago:20230412T083000
DTEND;TZID=America/Chicago:20230412T120000
DTSTAMP:20260425T092533
CREATED:20230411T210307Z
LAST-MODIFIED:20230411T210307Z
UID:10000083-1681288200-1681300800@www.crosscountrycruisers.com
SUMMARY:Maintenance Work Day
DESCRIPTION:Work day – Cold Storage Clean up
URL:https://www.crosscountrycruisers.com/event/maintenance-work-day-8/
LOCATION:Cruisers Clubhouse\, Helminski Road\, Arbor Vitae\, WI
END:VEVENT
BEGIN:VEVENT
DTSTART;TZID=America/Chicago:20230411T173000
DTEND;TZID=America/Chicago:20230411T193000
DTSTAMP:20260425T092533
CREATED:20230323T195749Z
LAST-MODIFIED:20230323T195749Z
UID:10000081-1681234200-1681241400@www.crosscountrycruisers.com
SUMMARY:Board of Directors Meeting
DESCRIPTION:
URL:https://www.crosscountrycruisers.com/event/board-of-directors-meeting/
LOCATION:Cruisers Clubhouse\, Helminski Road\, Arbor Vitae\, WI
END:VEVENT
BEGIN:VEVENT
DTSTART;TZID=America/Chicago:20230404T180000
DTEND;TZID=America/Chicago:20230404T193000
DTSTAMP:20260425T092533
CREATED:20230323T195617Z
LAST-MODIFIED:20230323T195617Z
UID:10000080-1680631200-1680636600@www.crosscountrycruisers.com
SUMMARY:Fundraising Committee - Winterfest 2024 Planning
DESCRIPTION:
URL:https://www.crosscountrycruisers.com/event/fundraising-committee-winterfest-2024-planning/
LOCATION:Cruisers Clubhouse\, Helminski Road\, Arbor Vitae\, WI
END:VEVENT
BEGIN:VEVENT
DTSTART;TZID=America/Chicago:20230404T163000
DTEND;TZID=America/Chicago:20230404T180000
DTSTAMP:20260425T092533
CREATED:20230323T195523Z
LAST-MODIFIED:20230323T195523Z
UID:10000079-1680625800-1680631200@www.crosscountrycruisers.com
SUMMARY:Membership/Communication Team Meeting
DESCRIPTION:
URL:https://www.crosscountrycruisers.com/event/membership-communication-team-meeting/
LOCATION:Cruisers Clubhouse\, Helminski Road\, Arbor Vitae\, WI
END:VEVENT
BEGIN:VEVENT
DTSTART;TZID=America/Chicago:20230315T183000
DTEND;TZID=America/Chicago:20230315T183000
DTSTAMP:20260425T092533
CREATED:20230225T030338Z
LAST-MODIFIED:20230225T030338Z
UID:10000078-1678905000-1678905000@www.crosscountrycruisers.com
SUMMARY:Board of Directors - Elections
DESCRIPTION:The following Positions: \n  \nPresident \nSecretary \n3 – Board Positions
URL:https://www.crosscountrycruisers.com/event/board-of-directors-elections/
LOCATION:Slo’s Pub\, 10599 Big Arbor Vitae Dr\, Arbor Vitae\, 54568\, United States
END:VEVENT
END:VCALENDAR