BEGIN:VCALENDAR
VERSION:2.0
PRODID:-//Cross Country Cruisers - ECPv6.15.20//NONSGML v1.0//EN
CALSCALE:GREGORIAN
METHOD:PUBLISH
X-WR-CALNAME:Cross Country Cruisers
X-ORIGINAL-URL:https://www.crosscountrycruisers.com
X-WR-CALDESC:Events for Cross Country Cruisers
REFRESH-INTERVAL;VALUE=DURATION:PT1H
X-Robots-Tag:noindex
X-PUBLISHED-TTL:PT1H
BEGIN:VTIMEZONE
TZID:America/Chicago
BEGIN:DAYLIGHT
TZOFFSETFROM:-0600
TZOFFSETTO:-0500
TZNAME:CDT
DTSTART:20220313T080000
END:DAYLIGHT
BEGIN:STANDARD
TZOFFSETFROM:-0500
TZOFFSETTO:-0600
TZNAME:CST
DTSTART:20221106T070000
END:STANDARD
BEGIN:DAYLIGHT
TZOFFSETFROM:-0600
TZOFFSETTO:-0500
TZNAME:CDT
DTSTART:20230312T080000
END:DAYLIGHT
BEGIN:STANDARD
TZOFFSETFROM:-0500
TZOFFSETTO:-0600
TZNAME:CST
DTSTART:20231105T070000
END:STANDARD
BEGIN:DAYLIGHT
TZOFFSETFROM:-0600
TZOFFSETTO:-0500
TZNAME:CDT
DTSTART:20240310T080000
END:DAYLIGHT
BEGIN:STANDARD
TZOFFSETFROM:-0500
TZOFFSETTO:-0600
TZNAME:CST
DTSTART:20241103T070000
END:STANDARD
END:VTIMEZONE
BEGIN:VEVENT
DTSTART;TZID=America/Chicago:20230501T150000
DTEND;TZID=America/Chicago:20230501T163000
DTSTAMP:20260425T105423
CREATED:20230416T002401Z
LAST-MODIFIED:20230416T002401Z
UID:10000088-1682953200-1682958600@www.crosscountrycruisers.com
SUMMARY:Winterfest Planning Meeting
DESCRIPTION:Monday\, May 1st Cruisers Winterfest planning team meeting at 3PM at Cruisers clubhouse. Also on Monday\, May 1st at 4:30PM there will be a Communications Team meeting at the Cruisers Clubhouse. Anyone is welcome to attend even if you have not made it to previous meetings.
URL:https://www.crosscountrycruisers.com/event/winterfest-planning-meeting-3/
LOCATION:Cruisers Clubhouse\, Helminski Road\, Arbor Vitae\, WI
END:VEVENT
BEGIN:VEVENT
DTSTART;TZID=America/Chicago:20230422T090000
DTEND;TZID=America/Chicago:20230422T120000
DTSTAMP:20260425T105423
CREATED:20230416T002250Z
LAST-MODIFIED:20230416T002250Z
UID:10000087-1682154000-1682164800@www.crosscountrycruisers.com
SUMMARY:Workday - Picking up Fencing for Storage
DESCRIPTION: Saturday April 22nd Workday meet at Cruisers Barn 9AM to work on picking up of trail snow fence\, organizing and putting fence away for the summer.
URL:https://www.crosscountrycruisers.com/event/workday-picking-up-fencing-for-storage/
LOCATION:Cruisers Barn\, 1503 Helminski Rd.\, Arbor Vitae\, WI\, 54568\, United States
ORGANIZER;CN="Jerry Wesner":MAILTO:jerrywesner@gmail.com
END:VEVENT
BEGIN:VEVENT
DTSTART;TZID=America/Chicago:20230419T090000
DTEND;TZID=America/Chicago:20230419T120000
DTSTAMP:20260425T105423
CREATED:20230416T002103Z
LAST-MODIFIED:20230416T002103Z
UID:10000086-1681894800-1681905600@www.crosscountrycruisers.com
SUMMARY:Workday - Removing Snow Fence
DESCRIPTION:Wednesday April 19th Workday meet at Cruisers Barn 9AM. We will be picking up snow fence at Arbor Vitae Campground and around town.
URL:https://www.crosscountrycruisers.com/event/workday-removing-snow-fence/
LOCATION:Cruisers Barn\, 1503 Helminski Rd.\, Arbor Vitae\, WI\, 54568\, United States
ORGANIZER;CN="Jerry Wesner":MAILTO:jerrywesner@gmail.com
END:VEVENT
BEGIN:VEVENT
DTSTART;TZID=America/Chicago:20230418T170000
DTEND;TZID=America/Chicago:20230418T200000
DTSTAMP:20260425T105423
CREATED:20230323T195845Z
LAST-MODIFIED:20230323T195845Z
UID:10000082-1681837200-1681848000@www.crosscountrycruisers.com
SUMMARY:April General Membership Meeting
DESCRIPTION:
URL:https://www.crosscountrycruisers.com/event/april-general-membership-meeting/
LOCATION:Cruisers Clubhouse\, Helminski Road\, Arbor Vitae\, WI
END:VEVENT
BEGIN:VEVENT
DTSTART;TZID=America/Chicago:20230417T180000
DTEND;TZID=America/Chicago:20230417T200000
DTSTAMP:20260425T105423
CREATED:20230411T211301Z
LAST-MODIFIED:20230416T001739Z
UID:10000084-1681754400-1681761600@www.crosscountrycruisers.com
SUMMARY:Beef-a Rama Planning Meeting
DESCRIPTION:Monday April 17th at 6PM at Cruisers Clubhouse is the initial meeting to put together and organizing committee for Beef A Rama (Sept. 30th) and also a committee for the Northwoods Fall Ride (Sept. 14th -17th) . Anyone interested in helping organize and plan these events is welcome to attend the meeting. If you have any questions contact Bill Lemke at moc.reitnorfnull@ekmelb or Doug Wendlandt at moc.kooltuonull@97iw5wk \n 
URL:https://www.crosscountrycruisers.com/event/beef-a-rama-planning-meeting/
LOCATION:Cruisers Clubhouse\, Helminski Road\, Arbor Vitae\, WI
END:VEVENT
BEGIN:VEVENT
DTSTART;TZID=America/Chicago:20230412T083000
DTEND;TZID=America/Chicago:20230412T120000
DTSTAMP:20260425T105423
CREATED:20230411T210307Z
LAST-MODIFIED:20230411T210307Z
UID:10000083-1681288200-1681300800@www.crosscountrycruisers.com
SUMMARY:Maintenance Work Day
DESCRIPTION:Work day – Cold Storage Clean up
URL:https://www.crosscountrycruisers.com/event/maintenance-work-day-8/
LOCATION:Cruisers Clubhouse\, Helminski Road\, Arbor Vitae\, WI
END:VEVENT
BEGIN:VEVENT
DTSTART;TZID=America/Chicago:20230411T173000
DTEND;TZID=America/Chicago:20230411T193000
DTSTAMP:20260425T105423
CREATED:20230323T195749Z
LAST-MODIFIED:20230323T195749Z
UID:10000081-1681234200-1681241400@www.crosscountrycruisers.com
SUMMARY:Board of Directors Meeting
DESCRIPTION:
URL:https://www.crosscountrycruisers.com/event/board-of-directors-meeting/
LOCATION:Cruisers Clubhouse\, Helminski Road\, Arbor Vitae\, WI
END:VEVENT
BEGIN:VEVENT
DTSTART;TZID=America/Chicago:20230404T180000
DTEND;TZID=America/Chicago:20230404T193000
DTSTAMP:20260425T105423
CREATED:20230323T195617Z
LAST-MODIFIED:20230323T195617Z
UID:10000080-1680631200-1680636600@www.crosscountrycruisers.com
SUMMARY:Fundraising Committee - Winterfest 2024 Planning
DESCRIPTION:
URL:https://www.crosscountrycruisers.com/event/fundraising-committee-winterfest-2024-planning/
LOCATION:Cruisers Clubhouse\, Helminski Road\, Arbor Vitae\, WI
END:VEVENT
BEGIN:VEVENT
DTSTART;TZID=America/Chicago:20230404T163000
DTEND;TZID=America/Chicago:20230404T180000
DTSTAMP:20260425T105423
CREATED:20230323T195523Z
LAST-MODIFIED:20230323T195523Z
UID:10000079-1680625800-1680631200@www.crosscountrycruisers.com
SUMMARY:Membership/Communication Team Meeting
DESCRIPTION:
URL:https://www.crosscountrycruisers.com/event/membership-communication-team-meeting/
LOCATION:Cruisers Clubhouse\, Helminski Road\, Arbor Vitae\, WI
END:VEVENT
BEGIN:VEVENT
DTSTART;TZID=America/Chicago:20230315T183000
DTEND;TZID=America/Chicago:20230315T183000
DTSTAMP:20260425T105423
CREATED:20230225T030338Z
LAST-MODIFIED:20230225T030338Z
UID:10000078-1678905000-1678905000@www.crosscountrycruisers.com
SUMMARY:Board of Directors - Elections
DESCRIPTION:The following Positions: \n  \nPresident \nSecretary \n3 – Board Positions
URL:https://www.crosscountrycruisers.com/event/board-of-directors-elections/
LOCATION:Slo’s Pub\, 10599 Big Arbor Vitae Dr\, Arbor Vitae\, 54568\, United States
END:VEVENT
BEGIN:VEVENT
DTSTART;TZID=America/Chicago:20230315T170000
DTEND;TZID=America/Chicago:20230315T200000
DTSTAMP:20260425T105423
CREATED:20230110T181818Z
LAST-MODIFIED:20230110T181818Z
UID:10000068-1678899600-1678910400@www.crosscountrycruisers.com
SUMMARY:General Membership Meeting
DESCRIPTION:
URL:https://www.crosscountrycruisers.com/event/general-membership-meeting-3/
LOCATION:Slo’s Pub\, 10599 Big Arbor Vitae Dr\, Arbor Vitae\, 54568\, United States
END:VEVENT
BEGIN:VEVENT
DTSTART;TZID=America/Chicago:20230315T083000
DTEND;TZID=America/Chicago:20230315T120000
DTSTAMP:20260425T105423
CREATED:20230225T025609Z
LAST-MODIFIED:20230225T025609Z
UID:10000077-1678869000-1678881600@www.crosscountrycruisers.com
SUMMARY:Maintenance Work Day
DESCRIPTION:
URL:https://www.crosscountrycruisers.com/event/maintenance-work-day-7/
LOCATION:Cruisers Barn\, 1503 Helminski Rd.\, Arbor Vitae\, WI\, 54568\, United States
END:VEVENT
BEGIN:VEVENT
DTSTART;TZID=America/Chicago:20230314T170000
DTEND;TZID=America/Chicago:20230314T190000
DTSTAMP:20260425T105423
CREATED:20230110T181314Z
LAST-MODIFIED:20230110T181314Z
UID:10000067-1678813200-1678820400@www.crosscountrycruisers.com
SUMMARY:Board Meeting
DESCRIPTION:
URL:https://www.crosscountrycruisers.com/event/board-meeting-5/
LOCATION:Cruisers Clubhouse\, Helminski Road\, Arbor Vitae\, WI
END:VEVENT
BEGIN:VEVENT
DTSTART;TZID=America/Chicago:20230308T083000
DTEND;TZID=America/Chicago:20230308T120000
DTSTAMP:20260425T105423
CREATED:20230225T021801Z
LAST-MODIFIED:20230308T021645Z
UID:10000076-1678264200-1678276800@www.crosscountrycruisers.com
SUMMARY:Maintenance Work Day - CANCELLED
DESCRIPTION:
URL:https://www.crosscountrycruisers.com/event/maintenance-work-day-6/
LOCATION:Cruisers Barn\, 1503 Helminski Rd.\, Arbor Vitae\, WI\, 54568\, United States
END:VEVENT
BEGIN:VEVENT
DTSTART;TZID=America/Chicago:20230301T083000
DTEND;TZID=America/Chicago:20230301T120000
DTSTAMP:20260425T105423
CREATED:20230225T021544Z
LAST-MODIFIED:20230225T021841Z
UID:10000075-1677659400-1677672000@www.crosscountrycruisers.com
SUMMARY:Maintenance Work Day
DESCRIPTION:
URL:https://www.crosscountrycruisers.com/event/maintenance-work-day-5/
LOCATION:Cruisers Barn\, 1503 Helminski Rd.\, Arbor Vitae\, WI\, 54568\, United States
END:VEVENT
BEGIN:VEVENT
DTSTART;TZID=America/Chicago:20230225T120000
DTEND;TZID=America/Chicago:20230225T170000
DTSTAMP:20260425T105423
CREATED:20230206T200233Z
LAST-MODIFIED:20230225T022307Z
UID:10000071-1677326400-1677344400@www.crosscountrycruisers.com
SUMMARY:HOPE TO SEE YOU ALL TOMORROW
DESCRIPTION:Lakeland Powersports Winter Carnival February 25th\, 2023. \nRaffles \nLive Music \nFood and Beverages
URL:https://www.crosscountrycruisers.com/event/lakeland-powersports-winter-carnival/
LOCATION:Lakeland Powersports\, 8844 Highway 47\, Woodruff\, WI
END:VEVENT
BEGIN:VEVENT
DTSTART;TZID=America/Chicago:20230216T180000
DTEND;TZID=America/Chicago:20230216T200000
DTSTAMP:20260425T105423
CREATED:20230210T220317Z
LAST-MODIFIED:20230210T220435Z
UID:10000074-1676570400-1676577600@www.crosscountrycruisers.com
SUMMARY:Groomer Operator's Round Table
DESCRIPTION:Pizza & Beverages will be served.
URL:https://www.crosscountrycruisers.com/event/groomer-operators-round-table/
LOCATION:Cruisers Clubhouse\, Helminski Road\, Arbor Vitae\, WI
END:VEVENT
BEGIN:VEVENT
DTSTART;TZID=America/Chicago:20230215T200000
DTEND;TZID=America/Chicago:20230215T200000
DTSTAMP:20260425T105423
CREATED:20230210T215842Z
LAST-MODIFIED:20230210T215842Z
UID:10000073-1676491200-1676491200@www.crosscountrycruisers.com
SUMMARY:Board of Directors Nominations - END
DESCRIPTION:
URL:https://www.crosscountrycruisers.com/event/board-of-directors-nominations-end/
END:VEVENT
BEGIN:VEVENT
DTSTART;TZID=America/Chicago:20230215T170000
DTEND;TZID=America/Chicago:20230215T200000
DTSTAMP:20260425T105423
CREATED:20230110T181144Z
LAST-MODIFIED:20230206T193511Z
UID:10000066-1676480400-1676491200@www.crosscountrycruisers.com
SUMMARY:General Membership Meeting
DESCRIPTION:General Membership Meeting will be on a Wednesday February 15th\, and held at the Minocqua Yacht Club at 5PM. Dinner Menu: Burger Bar\, Cheese Curds\, Pretzel Bits\, Tater Tots. Cost: $20 includes tip. Contact Jeanne Parrish to reserve your dinner at moc.liamgnull@95reddelsj or 608-723-9112 Deadline for dinner sign up February 12th. This is an important meeting with nominations being confirmed. Social hour begins at 5PM and Meal at 6PM and meeting around 6:30PM. Even if you don’t want to have dinner\, you are invited to attend. Meet our nominees and hear about who they are before you vote at the March Election.
URL:https://www.crosscountrycruisers.com/event/general-membership-meeting-2/
LOCATION:Minocqua Yacht Club\, 829 US Highway 51\, Minocqua\, 54548\, United States
END:VEVENT
BEGIN:VEVENT
DTSTART;TZID=America/Chicago:20230215T083000
DTEND;TZID=America/Chicago:20230215T120000
DTSTAMP:20260425T105423
CREATED:20230210T215412Z
LAST-MODIFIED:20230210T215652Z
UID:10000072-1676449800-1676462400@www.crosscountrycruisers.com
SUMMARY:Mainenance Work Day
DESCRIPTION:Maintenance Work Day
URL:https://www.crosscountrycruisers.com/event/mainenance-work-day/
LOCATION:Cruisers Barn\, 1503 Helminski Rd.\, Arbor Vitae\, WI\, 54568\, United States
END:VEVENT
BEGIN:VEVENT
DTSTART;TZID=America/Chicago:20230214T173000
DTEND;TZID=America/Chicago:20230214T193000
DTSTAMP:20260425T105423
CREATED:20230110T180632Z
LAST-MODIFIED:20230110T180632Z
UID:10000065-1676395800-1676403000@www.crosscountrycruisers.com
SUMMARY:Board Meeting
DESCRIPTION:
URL:https://www.crosscountrycruisers.com/event/board-meeting-2/
LOCATION:Cruisers Clubhouse\, Helminski Road\, Arbor Vitae\, WI
END:VEVENT
BEGIN:VEVENT
DTSTART;TZID=America/Chicago:20230208T083000
DTEND;TZID=America/Chicago:20230208T120000
DTSTAMP:20260425T105423
CREATED:20230206T195912Z
LAST-MODIFIED:20230206T195912Z
UID:10000070-1675845000-1675857600@www.crosscountrycruisers.com
SUMMARY:Maintenance Work Way
DESCRIPTION:
URL:https://www.crosscountrycruisers.com/event/maintenance-work-way/
LOCATION:Cruisers Barn\, 1503 Helminski Rd.\, Arbor Vitae\, WI\, 54568\, United States
END:VEVENT
BEGIN:VEVENT
DTSTART;TZID=America/Chicago:20230129T083000
DTEND;TZID=America/Chicago:20230129T130000
DTSTAMP:20260425T105423
CREATED:20230110T165741Z
LAST-MODIFIED:20230123T202652Z
UID:10000063-1674981000-1674997200@www.crosscountrycruisers.com
SUMMARY:Youth/Family Club Trail Ride - CANCELLED
DESCRIPTION:Due to the Extreme cold weather Forecast ……. the ride is being cancelled.  Continental Breakfast with meet and greet at the Cross Country Cruisers Club House at 8:30 am.  Trail ride 10:00 am. until 1:00pm. \nPlease RSVP by January 25th to Gina at 715-892-0746 or email moc.liamgnull@wozlokg.  Let us know how many family members will be attending.  Let’s get our youth involved in snowmobiling and keep the sport alive.
URL:https://www.crosscountrycruisers.com/event/youth-family-club-trail-ride/
LOCATION:Cruisers Clubhouse\, Helminski Road\, Arbor Vitae\, WI
END:VEVENT
BEGIN:VEVENT
DTSTART;TZID=America/Chicago:20230125T110000
DTEND;TZID=America/Chicago:20230125T120000
DTSTAMP:20260425T105423
CREATED:20230123T205748Z
LAST-MODIFIED:20230123T205748Z
UID:10000069-1674644400-1674648000@www.crosscountrycruisers.com
SUMMARY:Winterfest Debriefing Meeting
DESCRIPTION:
URL:https://www.crosscountrycruisers.com/event/winterfest-debriefing-meeting/
LOCATION:Cruisers Clubhouse\, Helminski Road\, Arbor Vitae\, WI
END:VEVENT
BEGIN:VEVENT
DTSTART;TZID=America/Chicago:20230125T083000
DTEND;TZID=America/Chicago:20230125T140000
DTSTAMP:20260425T105423
CREATED:20230110T153053Z
LAST-MODIFIED:20230123T205612Z
UID:10000061-1674635400-1674655200@www.crosscountrycruisers.com
SUMMARY:Maintenance Work Day
DESCRIPTION:
URL:https://www.crosscountrycruisers.com/event/maintenance-work-day-3/
LOCATION:Cruisers Barn\, 1503 Helminski Rd.\, Arbor Vitae\, WI\, 54568\, United States
END:VEVENT
BEGIN:VEVENT
DTSTART;TZID=America/Chicago:20230121T120000
DTEND;TZID=America/Chicago:20230121T210000
DTSTAMP:20260425T105423
CREATED:20230110T173103Z
LAST-MODIFIED:20230110T173103Z
UID:10000064-1674302400-1674334800@www.crosscountrycruisers.com
SUMMARY:Winterfest
DESCRIPTION:Mark Your Calendars !!! \nFOOD\, BEVERAGES\, RAFFLES\, GROOMER RIDES \nMUSIC by INDYCLYNE BAND 4:00pm until 8:00pm. \nCome join the Fun at the Cross Country Cruisers Barn
URL:https://www.crosscountrycruisers.com/event/winterfest-2/
LOCATION:Cruisers Barn\, 1503 Helminski Rd.\, Arbor Vitae\, WI\, 54568\, United States
END:VEVENT
BEGIN:VEVENT
DTSTART;TZID=America/Chicago:20230120T160000
DTEND;TZID=America/Chicago:20230120T210000
DTSTAMP:20260425T105423
CREATED:20221022T223102Z
LAST-MODIFIED:20230110T173210Z
UID:10000036-1674230400-1674248400@www.crosscountrycruisers.com
SUMMARY:Winterfest
DESCRIPTION:Mark Your Calendars !!!
URL:https://www.crosscountrycruisers.com/event/winterfest/
LOCATION:Cruisers Barn\, 1503 Helminski Rd.\, Arbor Vitae\, WI\, 54568\, United States
END:VEVENT
BEGIN:VEVENT
DTSTART;TZID=America/Chicago:20230120T080000
DTEND;TZID=America/Chicago:20230120T090000
DTSTAMP:20260425T105423
CREATED:20221022T223853Z
LAST-MODIFIED:20230110T172320Z
UID:10000038-1674201600-1674205200@www.crosscountrycruisers.com
SUMMARY:Badger State Torch Ride
DESCRIPTION:Badger State Winter Games Snowmobile Torch Ride from Wausau\, WI to Eagle River\, WI. The Torch Ride involves 14 snowmobile clubs\, 4 counties\, and over 200 miles of snowmobile trails. The Torch Ride will arrive at the Cross Country Cruisers Clubhouse for a continental breakfast and ride to St. Germain.
URL:https://www.crosscountrycruisers.com/event/badger-state-torch-ride/
LOCATION:Cruisers Clubhouse\, Helminski Road\, Arbor Vitae\, WI
END:VEVENT
BEGIN:VEVENT
DTSTART;TZID=America/Chicago:20230118T083000
DTEND;TZID=America/Chicago:20230118T140000
DTSTAMP:20260425T105423
CREATED:20230110T153152Z
LAST-MODIFIED:20230110T153152Z
UID:10000062-1674030600-1674050400@www.crosscountrycruisers.com
SUMMARY:Maintenance Work Day
DESCRIPTION:
URL:https://www.crosscountrycruisers.com/event/maintenance-work-day-4/
LOCATION:Cruisers Barn\, 1503 Helminski Rd.\, Arbor Vitae\, WI\, 54568\, United States
END:VEVENT
BEGIN:VEVENT
DTSTART;TZID=America/Chicago:20230117T170000
DTEND;TZID=America/Chicago:20230117T200000
DTSTAMP:20260425T105423
CREATED:20221122T043400Z
LAST-MODIFIED:20221212T005104Z
UID:10000051-1673974800-1673985600@www.crosscountrycruisers.com
SUMMARY:General Membership Meeting
DESCRIPTION:Pizza\, Wings\, French Fries and Salad \n$20 includes Gratuity!
URL:https://www.crosscountrycruisers.com/event/general-membership-meeting/
LOCATION:Hazelhurst Pub\, 6617 Highway 51 S\, Hazelhurst
END:VEVENT
END:VCALENDAR