BEGIN:VCALENDAR
VERSION:2.0
PRODID:-//Cross Country Cruisers - ECPv6.15.20//NONSGML v1.0//EN
CALSCALE:GREGORIAN
METHOD:PUBLISH
X-ORIGINAL-URL:https://www.crosscountrycruisers.com
X-WR-CALDESC:Events for Cross Country Cruisers
REFRESH-INTERVAL;VALUE=DURATION:PT1H
X-Robots-Tag:noindex
X-PUBLISHED-TTL:PT1H
BEGIN:VTIMEZONE
TZID:America/Chicago
BEGIN:DAYLIGHT
TZOFFSETFROM:-0600
TZOFFSETTO:-0500
TZNAME:CDT
DTSTART:20230312T080000
END:DAYLIGHT
BEGIN:STANDARD
TZOFFSETFROM:-0500
TZOFFSETTO:-0600
TZNAME:CST
DTSTART:20231105T070000
END:STANDARD
BEGIN:DAYLIGHT
TZOFFSETFROM:-0600
TZOFFSETTO:-0500
TZNAME:CDT
DTSTART:20240310T080000
END:DAYLIGHT
BEGIN:STANDARD
TZOFFSETFROM:-0500
TZOFFSETTO:-0600
TZNAME:CST
DTSTART:20241103T070000
END:STANDARD
BEGIN:DAYLIGHT
TZOFFSETFROM:-0600
TZOFFSETTO:-0500
TZNAME:CDT
DTSTART:20250309T080000
END:DAYLIGHT
BEGIN:STANDARD
TZOFFSETFROM:-0500
TZOFFSETTO:-0600
TZNAME:CST
DTSTART:20251102T070000
END:STANDARD
END:VTIMEZONE
BEGIN:VEVENT
DTSTART;TZID=America/Chicago:20240504T100000
DTEND;TZID=America/Chicago:20240504T120000
DTSTAMP:20260425T214446
CREATED:20240424T153903Z
LAST-MODIFIED:20240424T153903Z
UID:10000947-1714816800-1714824000@www.crosscountrycruisers.com
SUMMARY:Adopt a Highway Pickup
DESCRIPTION:Adopt a Highway \nGreat turn out last year. Hope to see you again this year. Volunteers to meet at the Krist Gas Station parking lot on Highway 70 West at 10AM. Vests and Bags are supplied. Bring gloves and wear appropriate shoes and clothing. After pick up\, all participating volunteers will meet at the Cruisers clubhouse for free pizza and beverages. \nTo sign up or for more information you can contact Greg Pauli \nemail moc.liamgnull@iluapjgerg or text/call 608-516-6995
URL:https://www.crosscountrycruisers.com/event/adopt-a-highway-pickup/
LOCATION:WI
END:VEVENT
BEGIN:VEVENT
DTSTART;TZID=America/Chicago:20240519T160000
DTEND;TZID=America/Chicago:20240519T200000
DTSTAMP:20260425T214446
CREATED:20240424T154129Z
LAST-MODIFIED:20240424T154232Z
UID:10000948-1716134400-1716148800@www.crosscountrycruisers.com
SUMMARY:Cruisers Appreciation Dinner
DESCRIPTION:
URL:https://www.crosscountrycruisers.com/event/cruisers-appreciation-dinner/
LOCATION:Northfork Fin & Filet\, 11084 Highway 70 E\, Arbor Vitae\, WI\, 54568\, United States
END:VEVENT
END:VCALENDAR