BEGIN:VCALENDAR
VERSION:2.0
PRODID:-//Cross Country Cruisers - ECPv6.15.20//NONSGML v1.0//EN
CALSCALE:GREGORIAN
METHOD:PUBLISH
X-WR-CALNAME:Cross Country Cruisers
X-ORIGINAL-URL:https://www.crosscountrycruisers.com
X-WR-CALDESC:Events for Cross Country Cruisers
REFRESH-INTERVAL;VALUE=DURATION:PT1H
X-Robots-Tag:noindex
X-PUBLISHED-TTL:PT1H
BEGIN:VTIMEZONE
TZID:America/Chicago
BEGIN:DAYLIGHT
TZOFFSETFROM:-0600
TZOFFSETTO:-0500
TZNAME:CDT
DTSTART:20230312T080000
END:DAYLIGHT
BEGIN:STANDARD
TZOFFSETFROM:-0500
TZOFFSETTO:-0600
TZNAME:CST
DTSTART:20231105T070000
END:STANDARD
BEGIN:DAYLIGHT
TZOFFSETFROM:-0600
TZOFFSETTO:-0500
TZNAME:CDT
DTSTART:20240310T080000
END:DAYLIGHT
BEGIN:STANDARD
TZOFFSETFROM:-0500
TZOFFSETTO:-0600
TZNAME:CST
DTSTART:20241103T070000
END:STANDARD
BEGIN:DAYLIGHT
TZOFFSETFROM:-0600
TZOFFSETTO:-0500
TZNAME:CDT
DTSTART:20250309T080000
END:DAYLIGHT
BEGIN:STANDARD
TZOFFSETFROM:-0500
TZOFFSETTO:-0600
TZNAME:CST
DTSTART:20251102T070000
END:STANDARD
END:VTIMEZONE
BEGIN:VEVENT
DTSTART;TZID=America/Chicago:20241106T083000
DTEND;TZID=America/Chicago:20241106T120000
DTSTAMP:20260425T122650
CREATED:20241006T161137Z
LAST-MODIFIED:20241006T161137Z
UID:10000963-1730881800-1730894400@www.crosscountrycruisers.com
SUMMARY:Wednesday Work-Day
DESCRIPTION:We need volunteers for Wednesday Workdays\, we begin every week at 8:30 and usually finish up by noon.  Please come and help out the crew.
URL:https://www.crosscountrycruisers.com/event/wednesday-work-day-6/2024-11-06/
LOCATION:Cruisers Clubhouse\, Helminski Road\, Arbor Vitae\, WI
ORGANIZER;CN="Jerry Wesner":MAILTO:jerrywesner@gmail.com
END:VEVENT
BEGIN:VEVENT
DTSTART;TZID=America/Chicago:20241112T160000
DTEND;TZID=America/Chicago:20241112T173000
DTSTAMP:20260425T122650
CREATED:20241103T004306Z
LAST-MODIFIED:20241103T004333Z
UID:10001041-1731427200-1731432600@www.crosscountrycruisers.com
SUMMARY:SnoFest Planning Committee
DESCRIPTION:
URL:https://www.crosscountrycruisers.com/event/snofest-planning-committee/
LOCATION:WI
END:VEVENT
BEGIN:VEVENT
DTSTART;TZID=America/Chicago:20241112T173000
DTEND;TZID=America/Chicago:20241112T193000
DTSTAMP:20260425T122650
CREATED:20241006T161249Z
LAST-MODIFIED:20241006T161249Z
UID:10001037-1731432600-1731439800@www.crosscountrycruisers.com
SUMMARY:Board Meeting
DESCRIPTION:
URL:https://www.crosscountrycruisers.com/event/board-meeting-18/
LOCATION:Cruisers Clubhouse\, Helminski Road\, Arbor Vitae\, WI
END:VEVENT
BEGIN:VEVENT
DTSTART;TZID=America/Chicago:20241113T083000
DTEND;TZID=America/Chicago:20241113T120000
DTSTAMP:20260425T122650
CREATED:20241006T161137Z
LAST-MODIFIED:20241006T161137Z
UID:10000964-1731486600-1731499200@www.crosscountrycruisers.com
SUMMARY:Wednesday Work-Day
DESCRIPTION:We need volunteers for Wednesday Workdays\, we begin every week at 8:30 and usually finish up by noon.  Please come and help out the crew.
URL:https://www.crosscountrycruisers.com/event/wednesday-work-day-6/2024-11-13/
LOCATION:Cruisers Clubhouse\, Helminski Road\, Arbor Vitae\, WI
ORGANIZER;CN="Jerry Wesner":MAILTO:jerrywesner@gmail.com
END:VEVENT
BEGIN:VEVENT
DTSTART;TZID=America/Chicago:20241119T170000
DTEND;TZID=America/Chicago:20241119T200000
DTSTAMP:20260425T122650
CREATED:20241006T161829Z
LAST-MODIFIED:20241105T140636Z
UID:10001038-1732035600-1732046400@www.crosscountrycruisers.com
SUMMARY:General Membership Meeting
DESCRIPTION:
URL:https://www.crosscountrycruisers.com/event/general-membership-meeting-8-2/
LOCATION:Gresham Lodge\, 4042 Popes Road\, Woodruff\, WI\, 54568\, United States
ORGANIZER;CN="Denise Bobert":MAILTO:dbtweety126@gmail.com
END:VEVENT
BEGIN:VEVENT
DTSTART;TZID=America/Chicago:20241120T083000
DTEND;TZID=America/Chicago:20241120T120000
DTSTAMP:20260425T122650
CREATED:20241006T161137Z
LAST-MODIFIED:20241006T161137Z
UID:10000965-1732091400-1732104000@www.crosscountrycruisers.com
SUMMARY:Wednesday Work-Day
DESCRIPTION:We need volunteers for Wednesday Workdays\, we begin every week at 8:30 and usually finish up by noon.  Please come and help out the crew.
URL:https://www.crosscountrycruisers.com/event/wednesday-work-day-6/2024-11-20/
LOCATION:Cruisers Clubhouse\, Helminski Road\, Arbor Vitae\, WI
ORGANIZER;CN="Jerry Wesner":MAILTO:jerrywesner@gmail.com
END:VEVENT
BEGIN:VEVENT
DTSTART;TZID=America/Chicago:20241121T173000
DTEND;TZID=America/Chicago:20241121T193000
DTSTAMP:20260425T122650
CREATED:20241103T004701Z
LAST-MODIFIED:20241103T004701Z
UID:10001042-1732210200-1732217400@www.crosscountrycruisers.com
SUMMARY:Groomer Drivers Meeting
DESCRIPTION:Groomer driver information meeting and signup at our club house\, 1503 Helminski Road in Arbor Vitae. Food at 5:30 with meeting to follow starting about 6 pm. We will review our grooming plans for the year\, complete the required driver paperwork and answer questions. It’s also a great chance to meet and talk with your fellow groomers. \nHope to see you there!
URL:https://www.crosscountrycruisers.com/event/groomer-drivers-meeting/
LOCATION:Cruisers Clubhouse\, Helminski Road\, Arbor Vitae\, WI
END:VEVENT
BEGIN:VEVENT
DTSTART;TZID=America/Chicago:20241127T083000
DTEND;TZID=America/Chicago:20241127T120000
DTSTAMP:20260425T122650
CREATED:20241006T161137Z
LAST-MODIFIED:20241006T161137Z
UID:10000966-1732696200-1732708800@www.crosscountrycruisers.com
SUMMARY:Wednesday Work-Day
DESCRIPTION:We need volunteers for Wednesday Workdays\, we begin every week at 8:30 and usually finish up by noon.  Please come and help out the crew.
URL:https://www.crosscountrycruisers.com/event/wednesday-work-day-6/2024-11-27/
LOCATION:Cruisers Clubhouse\, Helminski Road\, Arbor Vitae\, WI
ORGANIZER;CN="Jerry Wesner":MAILTO:jerrywesner@gmail.com
END:VEVENT
END:VCALENDAR