BEGIN:VCALENDAR
VERSION:2.0
PRODID:-//Cross Country Cruisers - ECPv6.15.20//NONSGML v1.0//EN
CALSCALE:GREGORIAN
METHOD:PUBLISH
X-WR-CALNAME:Cross Country Cruisers
X-ORIGINAL-URL:https://www.crosscountrycruisers.com
X-WR-CALDESC:Events for Cross Country Cruisers
REFRESH-INTERVAL;VALUE=DURATION:PT1H
X-Robots-Tag:noindex
X-PUBLISHED-TTL:PT1H
BEGIN:VTIMEZONE
TZID:America/Chicago
BEGIN:DAYLIGHT
TZOFFSETFROM:-0600
TZOFFSETTO:-0500
TZNAME:CDT
DTSTART:20240310T080000
END:DAYLIGHT
BEGIN:STANDARD
TZOFFSETFROM:-0500
TZOFFSETTO:-0600
TZNAME:CST
DTSTART:20241103T070000
END:STANDARD
BEGIN:DAYLIGHT
TZOFFSETFROM:-0600
TZOFFSETTO:-0500
TZNAME:CDT
DTSTART:20250309T080000
END:DAYLIGHT
BEGIN:STANDARD
TZOFFSETFROM:-0500
TZOFFSETTO:-0600
TZNAME:CST
DTSTART:20251102T070000
END:STANDARD
BEGIN:DAYLIGHT
TZOFFSETFROM:-0600
TZOFFSETTO:-0500
TZNAME:CDT
DTSTART:20260308T080000
END:DAYLIGHT
BEGIN:STANDARD
TZOFFSETFROM:-0500
TZOFFSETTO:-0600
TZNAME:CST
DTSTART:20261101T070000
END:STANDARD
BEGIN:DAYLIGHT
TZOFFSETFROM:-0600
TZOFFSETTO:-0500
TZNAME:CDT
DTSTART:20270314T080000
END:DAYLIGHT
BEGIN:STANDARD
TZOFFSETFROM:-0500
TZOFFSETTO:-0600
TZNAME:CST
DTSTART:20271107T070000
END:STANDARD
END:VTIMEZONE
BEGIN:VEVENT
DTSTART;TZID=America/Chicago:20251008T083000
DTEND;TZID=America/Chicago:20251212T123000
DTSTAMP:20260424T164451
CREATED:20251005T195605Z
LAST-MODIFIED:20260219T212525Z
UID:10001087-1759912200-1765542600@www.crosscountrycruisers.com
SUMMARY:Wednesday Work Day
DESCRIPTION:
URL:https://www.crosscountrycruisers.com/event/wednesday-work-day-7/2025-10-08/2/
LOCATION:Cruisers Clubhouse\, Helminski Road\, Arbor Vitae\, WI
END:VEVENT
BEGIN:VEVENT
DTSTART;TZID=America/Chicago:20251015T083000
DTEND;TZID=America/Chicago:20251219T123000
DTSTAMP:20260424T164451
CREATED:20251005T195605Z
LAST-MODIFIED:20260219T212525Z
UID:10001088-1760517000-1766147400@www.crosscountrycruisers.com
SUMMARY:Wednesday Work Day
DESCRIPTION:
URL:https://www.crosscountrycruisers.com/event/wednesday-work-day-7/2025-10-15/
LOCATION:Cruisers Clubhouse\, Helminski Road\, Arbor Vitae\, WI
END:VEVENT
BEGIN:VEVENT
DTSTART;TZID=America/Chicago:20251022T083000
DTEND;TZID=America/Chicago:20251226T123000
DTSTAMP:20260424T164451
CREATED:20251005T195605Z
LAST-MODIFIED:20260219T212525Z
UID:10001089-1761121800-1766752200@www.crosscountrycruisers.com
SUMMARY:Wednesday Work Day
DESCRIPTION:
URL:https://www.crosscountrycruisers.com/event/wednesday-work-day-7/2025-10-22/
LOCATION:Cruisers Clubhouse\, Helminski Road\, Arbor Vitae\, WI
END:VEVENT
BEGIN:VEVENT
DTSTART;TZID=America/Chicago:20251029T083000
DTEND;TZID=America/Chicago:20260102T123000
DTSTAMP:20260424T164451
CREATED:20251005T195605Z
LAST-MODIFIED:20260219T212525Z
UID:10001090-1761726600-1767357000@www.crosscountrycruisers.com
SUMMARY:Wednesday Work Day
DESCRIPTION:
URL:https://www.crosscountrycruisers.com/event/wednesday-work-day-7/2025-10-29/
LOCATION:Cruisers Clubhouse\, Helminski Road\, Arbor Vitae\, WI
END:VEVENT
BEGIN:VEVENT
DTSTART;TZID=America/Chicago:20251105T083000
DTEND;TZID=America/Chicago:20260109T133000
DTSTAMP:20260424T164451
CREATED:20251005T195605Z
LAST-MODIFIED:20260219T212525Z
UID:10001091-1762331400-1767965400@www.crosscountrycruisers.com
SUMMARY:Wednesday Work Day
DESCRIPTION:
URL:https://www.crosscountrycruisers.com/event/wednesday-work-day-7/2025-11-05/
LOCATION:Cruisers Clubhouse\, Helminski Road\, Arbor Vitae\, WI
END:VEVENT
BEGIN:VEVENT
DTSTART;TZID=America/Chicago:20251112T083000
DTEND;TZID=America/Chicago:20260116T133000
DTSTAMP:20260424T164451
CREATED:20251005T195605Z
LAST-MODIFIED:20260219T212525Z
UID:10001092-1762936200-1768570200@www.crosscountrycruisers.com
SUMMARY:Wednesday Work Day
DESCRIPTION:
URL:https://www.crosscountrycruisers.com/event/wednesday-work-day-7/2025-11-12/
LOCATION:Cruisers Clubhouse\, Helminski Road\, Arbor Vitae\, WI
END:VEVENT
BEGIN:VEVENT
DTSTART;TZID=America/Chicago:20251119T083000
DTEND;TZID=America/Chicago:20260123T133000
DTSTAMP:20260424T164451
CREATED:20251005T195605Z
LAST-MODIFIED:20260219T212525Z
UID:10001093-1763541000-1769175000@www.crosscountrycruisers.com
SUMMARY:Wednesday Work Day
DESCRIPTION:
URL:https://www.crosscountrycruisers.com/event/wednesday-work-day-7/2025-11-19/
LOCATION:Cruisers Clubhouse\, Helminski Road\, Arbor Vitae\, WI
END:VEVENT
BEGIN:VEVENT
DTSTART;TZID=America/Chicago:20251126T083000
DTEND;TZID=America/Chicago:20260130T133000
DTSTAMP:20260424T164451
CREATED:20251005T195605Z
LAST-MODIFIED:20260219T212525Z
UID:10001094-1764145800-1769779800@www.crosscountrycruisers.com
SUMMARY:Wednesday Work Day
DESCRIPTION:
URL:https://www.crosscountrycruisers.com/event/wednesday-work-day-7/2025-11-26/
LOCATION:Cruisers Clubhouse\, Helminski Road\, Arbor Vitae\, WI
END:VEVENT
BEGIN:VEVENT
DTSTART;TZID=America/Chicago:20251203T083000
DTEND;TZID=America/Chicago:20260206T133000
DTSTAMP:20260424T164451
CREATED:20251005T195605Z
LAST-MODIFIED:20260219T212525Z
UID:10001095-1764750600-1770384600@www.crosscountrycruisers.com
SUMMARY:Wednesday Work Day
DESCRIPTION:
URL:https://www.crosscountrycruisers.com/event/wednesday-work-day-7/2025-12-03/
LOCATION:Cruisers Clubhouse\, Helminski Road\, Arbor Vitae\, WI
END:VEVENT
BEGIN:VEVENT
DTSTART;TZID=America/Chicago:20251210T083000
DTEND;TZID=America/Chicago:20260213T133000
DTSTAMP:20260424T164451
CREATED:20251005T195605Z
LAST-MODIFIED:20260219T212525Z
UID:10001096-1765355400-1770989400@www.crosscountrycruisers.com
SUMMARY:Wednesday Work Day
DESCRIPTION:
URL:https://www.crosscountrycruisers.com/event/wednesday-work-day-7/2025-12-10/
LOCATION:Cruisers Clubhouse\, Helminski Road\, Arbor Vitae\, WI
END:VEVENT
BEGIN:VEVENT
DTSTART;TZID=America/Chicago:20251213T090000
DTEND;TZID=America/Chicago:20251213T130000
DTSTAMP:20260424T164451
CREATED:20251106T203636Z
LAST-MODIFIED:20251106T203636Z
UID:10001114-1765616400-1765630800@www.crosscountrycruisers.com
SUMMARY:Groomer Operator Hands-On Training
DESCRIPTION:
URL:https://www.crosscountrycruisers.com/event/groomer-operator-hands-on-training/
LOCATION:Cruisers Clubhouse\, Helminski Road\, Arbor Vitae\, WI
END:VEVENT
BEGIN:VEVENT
DTSTART;TZID=America/Chicago:20251213T170000
DTEND;TZID=America/Chicago:20251213T220000
DTSTAMP:20260424T164451
CREATED:20251106T202704Z
LAST-MODIFIED:20251106T202704Z
UID:10001112-1765645200-1765663200@www.crosscountrycruisers.com
SUMMARY:Cruisers Christmas Party
DESCRIPTION:
URL:https://www.crosscountrycruisers.com/event/cruisers-christmas-party/
LOCATION:Holiday Cafe\, 1107 1st street\, Woodruff\, WI\, 54568\, United States
ORGANIZER;CN="Denise Bobert":MAILTO:dbtweety126@gmail.com
END:VEVENT
END:VCALENDAR